BEGIN:VCALENDAR
VERSION:2.0
PRODID:-//Patriot Guard Riders - ECPv5.6.0//NONSGML v1.0//EN
CALSCALE:GREGORIAN
METHOD:PUBLISH
X-WR-CALNAME:Patriot Guard Riders
X-ORIGINAL-URL:https://www.patriotguard.org
X-WR-CALDESC:Events for Patriot Guard Riders
BEGIN:VTIMEZONE
TZID:America/New_York
BEGIN:DAYLIGHT
TZOFFSETFROM:-0500
TZOFFSETTO:-0400
TZNAME:EDT
DTSTART:20160313T070000
END:DAYLIGHT
BEGIN:STANDARD
TZOFFSETFROM:-0400
TZOFFSETTO:-0500
TZNAME:EST
DTSTART:20161106T060000
END:STANDARD
END:VTIMEZONE
BEGIN:VEVENT
DTSTART;TZID=America/New_York:20160708T090000
DTEND;TZID=America/New_York:20160708T110000
DTSTAMP:20210512T214040
CREATED:20160708T130000Z
LAST-MODIFIED:20191201T144505Z
UID:410740-1467968400-1467975600@www.patriotguard.org
SUMMARY:Howard Bussey\, USA
DESCRIPTION:Patriot’s Name: Howard Bussey\nMilitary Branch: United States Army\nClassification: Veteran\nAdditional Military Info: World War II Veteran of Multiple Italian Campaigns \nMission Ride Captain:\nMark Gravit\nputt4dou@msn.com\n(720)422-9221 \nMission Summary: The family of Mr. Howard Bussey has asked the North Texas Patriot Guard Riders to stand a Flag Line at his Inurnment Service. Mr. Bussey’s wife passed before him. They will be inurned together on this day. \nPART 1: Flag Line at Mr. Bussey’s Inurnment Service\nMission Date: Jul 08\, 2016 – Friday \nStaging Time: 09:30 \nBriefing Time: 09:45 \nIn Position Time Or KSU: 10:00 \nService Start Time: 10:15 \nDetails Of Part 1: After the mission briefing\, Honor bikes will assume their position in the appropriate staging lane. All other Riders will proceed to the shelter to set the flags and await the arrival of Mr. and Mrs. Bussey\, family\, and friends. We will then stand tall and silent in honor of Mr. Bussey’s Service to his Country. At the conclusion of the Service\, flags will be returned to storage and the Riders will be debriefed and dismissed. \nName Of Staging Point:\nDallas Fort Worth National Cemetery\n2000 Mountain Creek Parkway\nDallas\, Texas 75211
URL:https://www.patriotguard.org/mission/howard-bussey-usa/
CATEGORIES:Archive
END:VEVENT
END:VCALENDAR