BEGIN:VCALENDAR
VERSION:2.0
PRODID:-//Patriot Guard Riders - ECPv5.6.0//NONSGML v1.0//EN
CALSCALE:GREGORIAN
METHOD:PUBLISH
X-WR-CALNAME:Patriot Guard Riders
X-ORIGINAL-URL:https://www.patriotguard.org
X-WR-CALDESC:Events for Patriot Guard Riders
BEGIN:VTIMEZONE
TZID:America/New_York
BEGIN:DAYLIGHT
TZOFFSETFROM:-0500
TZOFFSETTO:-0400
TZNAME:EDT
DTSTART:20160313T070000
END:DAYLIGHT
BEGIN:STANDARD
TZOFFSETFROM:-0400
TZOFFSETTO:-0500
TZNAME:EST
DTSTART:20161106T060000
END:STANDARD
END:VTIMEZONE
BEGIN:VEVENT
DTSTART;TZID=America/New_York:20160530T090000
DTEND;TZID=America/New_York:20160530T110000
DTSTAMP:20210513T183728
CREATED:20160530T130000Z
LAST-MODIFIED:20191201T154732Z
UID:416322-1464598800-1464606000@www.patriotguard.org
SUMMARY:HOTH - Wichita Falls Memorial Day Remembrance Ceremony /  Wichita Falls
DESCRIPTION:Mission Name: Memorial Day Remembrance Ceremony\nClassification: Community Event \nMission Ride Captain:\nMike “Weldermike” Johnson\, weldermike@aol.com\, (940) 224-2872 \nMission Summary:\nWe will gather around the flag pole at the Wichita County Cemetery to remember those buried there who served our country in uniform. \nPART 1: Raising and lowering of the Flag to half staff \nMission Date: May 30\, 2016 – Monday\nStaging Time: 07:30\nBriefing Time: 07:45\nIn Position Time Or KSU: 07:50\nService Start Time: 08:00 \nDetails Of Part 1: \nThis will be a brief ceremony to remember the less privileged and homeless Veterans buried in the Veteran’s section of the Wichita County Cemetery. The Patriot Guard Riders will form a flag line in close proximity to the flag pole at the Veteran’s section of the cemetery. The Sheppard Air Force Base chapter of the Green Knights Motorcycle Club will then raise the flag and lower it to half-staff\, where it will remain until sundown. \nOnce the ceremony is completed\, we will debrief and be dismissed. The whole ceremony should not last more than 15 to 20 minutes\, including time for a short speech. \nName Of Staging Point:\nWichita County Cemetery\n981 30th Street\nWichita Falls\, Texas 76302
URL:https://www.patriotguard.org/mission/hoth-wichita-falls-memorial-day-remembrance-ceremony-wichita-falls/
CATEGORIES:Archive
END:VEVENT
END:VCALENDAR