BEGIN:VCALENDAR
VERSION:2.0
PRODID:-//Patriot Guard Riders - ECPv5.6.0//NONSGML v1.0//EN
CALSCALE:GREGORIAN
METHOD:PUBLISH
X-WR-CALNAME:Patriot Guard Riders
X-ORIGINAL-URL:https://www.patriotguard.org
X-WR-CALDESC:Events for Patriot Guard Riders
BEGIN:VTIMEZONE
TZID:America/New_York
BEGIN:DAYLIGHT
TZOFFSETFROM:-0500
TZOFFSETTO:-0400
TZNAME:EDT
DTSTART:20120311T070000
END:DAYLIGHT
BEGIN:STANDARD
TZOFFSETFROM:-0400
TZOFFSETTO:-0500
TZNAME:EST
DTSTART:20121104T060000
END:STANDARD
END:VTIMEZONE
BEGIN:VEVENT
DTSTART;TZID=America/New_York:20121110T090000
DTEND;TZID=America/New_York:20121110T110000
DTSTAMP:20210512T085332
CREATED:20121110T140000Z
LAST-MODIFIED:20191201T093504Z
UID:303874-1352538000-1352545200@www.patriotguard.org
SUMMARY:HOTH - Veterans Home Visit
DESCRIPTION:The Patriot Guard has been invited to participate with Teufelshunde Motorcycle Club in their annual YOU ARE NOT FORGOTTEN RUN to Richard B. Campbell Veterans Nursing Home just outside Anderson SC. \nIf you can……please join Kit ‘Sandman’ Sanders and bring at least one of the suggested items.  You’ll need sunglasses to hide behind because your eyes WILL get misty.  You will have the opportunity to thank some old warriors for their service.  This happens every year but it seems to always overwhelm these men and women.  It will be a day you never forget. \nSuggested items: \nUniversal Remote Control\nBatteries (AA or AAA)\nBody Wash\nBody Spray\nBody Lotion\nNo Rinse Shampoo\nIndividually wrapped snacks\, pudding\, jello\nJog Suits\nDiabetic Socks\nCaps – Stocking caps or Ball caps\nHot Chocolate\nSlippers\nIndividual Radio\, CD\, DVD Players\nCD’s or DVD’s\nLarge Print Books and Puzzle Books\nT-Shirts\nPictures/Posters\nBird Feeders and Bird Seed\nBirdhouses\nSunglasses\nLightweight Jackets\nWall Clock\nMilitary Hats\nCraft Projects/Paints\nHairbrushes\nModel Cars\nBoard Games \nStaging Time:           1300 hours (1pm) \nStaging Location:       Anderson County War Memorial\n(adjacent to Anderson County Sherriff’s Office) \nKickstands Up:          1430 \nRide Captain:            Kit ‘Sandman’ Sanders\, Mission Ride Captain\n864-940-4527 \nOnce you arrive\, follow the instructions from Sandman and all Teufelshunde M/C members.
URL:https://www.patriotguard.org/mission/hoth-veterans-home-visit-2/
END:VEVENT
END:VCALENDAR