BEGIN:VCALENDAR
VERSION:2.0
PRODID:-//Patriot Guard Riders - ECPv5.6.0//NONSGML v1.0//EN
CALSCALE:GREGORIAN
METHOD:PUBLISH
X-WR-CALNAME:Patriot Guard Riders
X-ORIGINAL-URL:https://www.patriotguard.org
X-WR-CALDESC:Events for Patriot Guard Riders
BEGIN:VTIMEZONE
TZID:America/New_York
BEGIN:DAYLIGHT
TZOFFSETFROM:-0500
TZOFFSETTO:-0400
TZNAME:EDT
DTSTART:20160313T070000
END:DAYLIGHT
BEGIN:STANDARD
TZOFFSETFROM:-0400
TZOFFSETTO:-0500
TZNAME:EST
DTSTART:20161106T060000
END:STANDARD
END:VTIMEZONE
BEGIN:VEVENT
DTSTART;TZID=America/New_York:20160811T090000
DTEND;TZID=America/New_York:20160811T110000
DTSTAMP:20210512T013850
CREATED:20160811T130000Z
LAST-MODIFIED:20191201T154532Z
UID:416136-1470906000-1470913200@www.patriotguard.org
SUMMARY:HOTH - Street Naming Ceremony\, SSG Louis M. Bonacas
DESCRIPTION:Riders & Patriots: \nPatriot Guard Rider presence has been requested by the family to attend the street renaming ceremony to be conducted in honor of Air National Guard SSG Louis M. Bonacasa. \nSergeant Bonacasa was killed four days before Christmas\, 2015 when a terrorist suicide bomber drove his motorcycle directly into their patrol near the Bagram Air Base in Afghanistan. \nHis unit had arrived there in October\, and he was due home in April. He enlisted in the Air Force two days after his high school graduation in 2002. \nWhen/Where:\nThursday\, August 11\, 2016\nMiddle Island\, NY \nLRC:\nRich Pinnavaia\nrichpinn@optonline.net\n631-807-5946 \nThis is the same location where the portrait ceremony was held.  Please arrive by 10:30 am the latest and bring your flags as PGR flags not on site\,
URL:https://www.patriotguard.org/mission/hoth-street-naming-ceremony-ssg-louis-m-bonacas/
CATEGORIES:Archive
END:VEVENT
END:VCALENDAR