BEGIN:VCALENDAR
VERSION:2.0
PRODID:-//Patriot Guard Riders - ECPv5.6.0//NONSGML v1.0//EN
CALSCALE:GREGORIAN
METHOD:PUBLISH
X-WR-CALNAME:Patriot Guard Riders
X-ORIGINAL-URL:https://www.patriotguard.org
X-WR-CALDESC:Events for Patriot Guard Riders
BEGIN:VTIMEZONE
TZID:America/New_York
BEGIN:DAYLIGHT
TZOFFSETFROM:-0500
TZOFFSETTO:-0400
TZNAME:EDT
DTSTART:20080309T070000
END:DAYLIGHT
BEGIN:STANDARD
TZOFFSETFROM:-0400
TZOFFSETTO:-0500
TZNAME:EST
DTSTART:20081102T060000
END:STANDARD
END:VTIMEZONE
BEGIN:VEVENT
DTSTART;TZID=America/New_York:20081012T090000
DTEND;TZID=America/New_York:20081012T110000
DTSTAMP:20210512T081315
CREATED:20081012T130000Z
LAST-MODIFIED:20191201T113345Z
UID:380465-1223802000-1223809200@www.patriotguard.org
SUMMARY:HOTH - Salute to Gold Star Mothers
DESCRIPTION:Updated 8 OCT 08 @ 0957hrs edt by Sandy9999\n\nUpdated 26 Sep 08 0958 Cdt by Sandra \nFINAL ITINERARY \n    The” Salute to Gold Star Mothers” event will take place as per the revised date of 12 Oct 08. \n    All other information (times\, staging\, etc) remains the same. \n    PLEASE NOTE: As before\, this event is contingent on good weather. Although Sunday is predicted to be a clear and sunny day\, please check this forum for any last minute cancellation. \n        Howard Shrut\n        Assisitant State Captain______________________________________________________________________________\nUpdated 25 Sept 08 1720 edt S Sturgis \nThis event is to honor Gold Star Mothers and to support our Disabled Veterans.\nThere will be a  fairly short ceremony in this regard.\nOur “official” participation” should be no longer than one hour but the event is also billed as ” a family fun day of food and entertainment.\n” Wives\, girlfriends and kids are encouraged to come and join in.\nActivities will last from 9:00 AM until 4:00 PM. \n\nLocation of the event itself (NOT our staging area) \nLawrence Municipal Airport\n492 Sutton Street\nNorth Andover\, MA 01845 \n\nStaging:  Burger King\n188 Turnpike Street (Rte 114)\n\n—at intersection of Rte 114 (Turnpike St) and  Rte 133 (Peters St)—\n\nNorth Andover\, MA 01845 \n\nDirections: Travelling on 495 North\, take exit 42 A  onto Rte 114 East direction Middleton \nTravelling on 495 South\, take exit 42 B onto Rte 114 East direction Middleton \nBurger King approx. 1 mile on left: http://shrunklink.com/bawq \nStaging Time: 7:00 –  8:10 AM – Sunday\, 28 Sept 08 \nBriefing: 8:10 AM \nKSU: 8:15 AM \nRide Captain:  Howard Shrut     hshrut@rcn.com \nIMPORTANT PLEASE NOTE: This event is contingent upon favorable weather.\nThe organizers will cancel if they determine that the weather is too inclement to allow the activities to take place. \nPlease check this  forum thread for a possible cancellation announcement. \nThe Rain Date would be Sunday\, 12 October 08 \n \n \n \n\nPLEASE BRING/MOUNT YOUR FLAGS \n\n\n \nHoward Shrut\nAssistant State Captain\nhshrut@rcn.com\n_________________________________________________________________________ \nThe PGR has been requested to support a Salute To Gold Star Mothers in North Andover\, MA on Sunday\, September 28th.  In addition to honoring our Hero’s families there will be various attractions that will be available all day.  September 28th is National Gold Star Mothers Day. \nStaging and details will be posted when finalized.  For planning purposes the ceremonies will start at 0900 at the Lawrence Municipal Airport located at 492 Sutton Street in North Andover. \nRIDE CAPTAIN: Howard Shrut ]hshrut@rcn.com  \nJim Boland \nState Captain \nMassachusetts
URL:https://www.patriotguard.org/mission/hoth-salute-to-gold-star-mothers-3/
CATEGORIES:Archive
END:VEVENT
END:VCALENDAR