BEGIN:VCALENDAR
VERSION:2.0
PRODID:-//Patriot Guard Riders - ECPv5.6.0//NONSGML v1.0//EN
CALSCALE:GREGORIAN
METHOD:PUBLISH
X-WR-CALNAME:Patriot Guard Riders
X-ORIGINAL-URL:https://www.patriotguard.org
X-WR-CALDESC:Events for Patriot Guard Riders
BEGIN:VTIMEZONE
TZID:America/New_York
BEGIN:DAYLIGHT
TZOFFSETFROM:-0500
TZOFFSETTO:-0400
TZNAME:EDT
DTSTART:20160313T070000
END:DAYLIGHT
BEGIN:STANDARD
TZOFFSETFROM:-0400
TZOFFSETTO:-0500
TZNAME:EST
DTSTART:20161106T060000
END:STANDARD
END:VTIMEZONE
BEGIN:VEVENT
DTSTART;TZID=America/New_York:20160701T090000
DTEND;TZID=America/New_York:20160701T110000
DTSTAMP:20210513T002023
CREATED:20160701T130000Z
LAST-MODIFIED:20191201T154623Z
UID:416215-1467363600-1467370800@www.patriotguard.org
SUMMARY:HOTH - Ruck March Flag Line / Tavares
DESCRIPTION:Ruck March for PTSD/SUICIDE Awareness\nTavares / Lady Lake\, FL.\nFriday\, July 1\, 2016\n\n\nKeith Totten of “One team\, One Fight 4 PTSD” will be doing a solo Ruck march across Lake County to increase awareness of PTSD and the 22 Veterans that we lose to PTSD/SUICIDE each day.  He will begin at the Orange/Lake County Line on US hwy 441 in Mount Dora and end at the Lake/Sumter County Line on US hwy 27/441 in the Villages. \nThe Ruck March will make several stops throughout the day\, but our official mission will focus on two points in the March. \nWe plan to set a flag line across the Dead River Bridge as Keith passes on his PTSD/SUICIDE awareness journey across Lake County and to be there at the end of this journey at the Lake/Sumter County Line in the Villages. \nKeith will embark on this journey from Reninnger’s Antique Center\, 20651 Hwy 441\, Mount Dora Fl. 32757 at 0600 hrs.  and is expected to arrive at the Dead River Bridge at approximately 0945 hrs. \nItinerary:\nPart 1\nPalm Gardens (located at the north end of the Dead River Bridge on Hwy 441)\n1661 Palm Gardens St.\nTavares\, FL.\, 32778\nMap: https://goo.gl/hRnjGB \nStage:              0900 hrs\nBrief:                0915 hrs\nFlag Line:          As determined by Ride Captain \nFor Part 1\, there will be about a 50-yard walk to the crest of the Bridge. \nPart 2\nKnudson Softball Field Parking Lot\n1419 Paradise Dr.\nLady Lake\, FL.\, 32159 \nMap: https://goo.gl/fn9xjB \nTurn into Country Club Hills\, go through gate\, take next right\, and then take next right before fire station into parking lot. \nStage:              1600 hrs\nBrief:                1615 hrs\nFlag Line:          As determined by Ride Captain \nRide Captain:    Doug “Easy D” Stone\nRC Email:         dstone34@ymail.com\nRC Cell:            352-603-0212 \nBelow is the full itinerary for the Ruck March.  All are welcome and encouraged to participate in any portion. \n0600 hrs Begin PTSD/SUICIDE Awareness Ruck March at Lake/Orange County Line on US Hwy 441 in Mount Dora.  0645 hrs\n0645 hrs Arrive at Hwy 441/ Donnelly Street in Mount Dora\n0745 hrs Arrive Hwy 441/hwy 19 in Eustis\n0845 hrs Arrive Hwy 441/Lake Shore Dr.\n0945 hrs Arrive Hwy 441/Dead River Bridge\nWe will set a flag line across the bridge as the Ruck March passes.\n1030 hrs Arrive Via Port Mall Hwy 441\, Leesburg\n1115 hrs Arrive at Gator Harley Davidson\, Leesburg.\n1230 hrs Arrive at AMVETS post 2006/ Veterans Memorial at Fountain Park.  Leesburg.\n1400 hrs Arrive at Fruitland Park Wal Mart\, Hwy 27 Fruitland Park.\n1500 hrs Arrive at Lady Lake Hwy 27\n1600 hrs Arrive at the Villages\n1700 hrs Arrive at Lake/Sumter County Line\, Termination point for PTSD/SUICIDE Awareness Ruck March.\nWe will set a Flag Line to welcome and support Keith Totten\, One Team\, and One Fight 4 PTSD. \nNOTE: all time are ESTIMATED and could be affected by weather\, rest stops etc.\nWe will set a flag line at the underlined locations and ESTIMATED times. \nPlease feel free to join us for the 0600 hrs send off or any part of the Ruck March throughout the day.\nThere may be a Meet & Greet at the end of the Ruck March\, this information will be available at the briefing.
URL:https://www.patriotguard.org/mission/hoth-ruck-march-flag-line-tavares/
CATEGORIES:Archive
END:VEVENT
END:VCALENDAR