BEGIN:VCALENDAR
VERSION:2.0
PRODID:-//Patriot Guard Riders - ECPv5.3.2.1//NONSGML v1.0//EN
CALSCALE:GREGORIAN
METHOD:PUBLISH
X-WR-CALNAME:Patriot Guard Riders
X-ORIGINAL-URL:https://www.patriotguard.org
X-WR-CALDESC:Events for Patriot Guard Riders
BEGIN:VTIMEZONE
TZID:America/New_York
BEGIN:DAYLIGHT
TZOFFSETFROM:-0500
TZOFFSETTO:-0400
TZNAME:EDT
DTSTART:20140309T070000
END:DAYLIGHT
BEGIN:STANDARD
TZOFFSETFROM:-0400
TZOFFSETTO:-0500
TZNAME:EST
DTSTART:20141102T060000
END:STANDARD
END:VTIMEZONE
BEGIN:VEVENT
DTSTART;TZID=America/New_York:20141209T090000
DTEND;TZID=America/New_York:20141209T110000
DTSTAMP:20210401T234041
CREATED:20141209T140000Z
LAST-MODIFIED:20191201T114740Z
UID:383030-1418115600-1418122800@www.patriotguard.org
SUMMARY:HOTH - Purple Heart Ceremony
DESCRIPTION:The  Patriot Guard Riders have been requested to stand a Flag Line during the  Purple Heart Ceremony for Sergeant First Class Joseph Lowrey . He was  injured in Afghanistan on July 7th\, 2014. He is with the 7th Special  Forces Group. He has 4- children and they will all be there\, and quite a few of  his team members will also be there for the Ceremony. Please bring your  Flags and lets proudly stand for this Hero as he has so proudly stood  for us. \nWHO: Sergeant First Class Joseph Lowrey US ARMY \n\nWHEN: Tuesday December 9th\, 2014 \n\nSTAGING TIME: 1030 hrs \n\nSTAGING AREA: Shell Gas Station 2200 El Camino Real Palo Alto Ca \n\nhttp://mapq.st/1wENqZF \n\nKSU: Approx 1100hrs \n\nDESTINATION: Veterans Hospital Palo Alto \n\nRIDE CAPTAIN: Buzz Bickham  buzzpgr@gmail.com
URL:https://www.patriotguard.org/mission/hoth-purple-heart-ceremony-4/
CATEGORIES:Archive
END:VEVENT
END:VCALENDAR