BEGIN:VCALENDAR
VERSION:2.0
PRODID:-//Patriot Guard Riders - ECPv5.6.0//NONSGML v1.0//EN
CALSCALE:GREGORIAN
METHOD:PUBLISH
X-WR-CALNAME:Patriot Guard Riders
X-ORIGINAL-URL:https://www.patriotguard.org
X-WR-CALDESC:Events for Patriot Guard Riders
BEGIN:VTIMEZONE
TZID:America/New_York
BEGIN:DAYLIGHT
TZOFFSETFROM:-0500
TZOFFSETTO:-0400
TZNAME:EDT
DTSTART:20160313T070000
END:DAYLIGHT
BEGIN:STANDARD
TZOFFSETFROM:-0400
TZOFFSETTO:-0500
TZNAME:EST
DTSTART:20161106T060000
END:STANDARD
END:VTIMEZONE
BEGIN:VEVENT
DTSTART;TZID=America/New_York:20160622T090000
DTEND;TZID=America/New_York:20160622T110000
DTSTAMP:20210513T173737
CREATED:20160622T130000Z
LAST-MODIFIED:20191201T154637Z
UID:416237-1466586000-1466593200@www.patriotguard.org
SUMMARY:HOTH - Operation Purple Camp / Tucson
DESCRIPTION:22 JUNE 2016\nOPERATION PURPLE CAMP\nORACLE\, ARIZONA  85623 \n\n\nThe  National Military Family Association’s Operation Purple Camp is open to  children with a parent or guardian from any service branch.  This is a  free summer camp for these children.  Priority is given to children who  have a parent(s) or guardian who incurred service connected injuries or  illnesses on or after 9/11 or their parent(s) or guardian are deployed.\n\nThis  will be our 5th year of riding out to see these kids and seriously  having a great time!  They love to gather in the circle and hold hands  as we all sing our PGR song and say the Pledge.  In the past we have  danced with them\, talked to them about the Patriot Guard Riders and let  them know we care about them.  The kids a couple of years ago had a  special visitor come in by helicopter from the Military but they heard  us rolling up the road to them and ran over to us….we were told later  that we stole the thunder! LOL \nWe  have been asked again by the AZANG 162nd Wing to be there to spend the  morning with these kids and it is going to be an honor to let them know  the Patriot Guard Riders care.\n\nPLEASE  HYDRATE THE DAY BEFORE AS WELL AS THE DAY OF\, WE WILL BE RIDING AN HOUR  TO GET TO OUR DESTINATION AND THE TEMPERATURE WILL BE HOT \nDATE:  22 June 2016 \nSTAGING:\nChevron Station (just north of Magee and Oracle on the east side of the street)\n8080 North Oracle Road\nTucson\, AZ  85704\n\nWe  will be riding approximately an hour to our destination of Triangle Y  Ranch near Oracle\, AZ.  If you have flag mounts\, please bring it and we  will stop once we are close to Triangle Y and unfurl them for the kids  to see. \nTIME:  6:30AM​\nBRIEFING:  6:45AM\nKSU:  6:50AM\n\nRIDE CAPTAIN:\nDominator 520-235-2352 \nPLEASE HYDRATE THE DAY BEFORE AS WELL AS THE DAY OF THE MISSION
URL:https://www.patriotguard.org/mission/hoth-operation-purple-camp-tucson/
CATEGORIES:Archive
END:VEVENT
END:VCALENDAR