BEGIN:VCALENDAR
VERSION:2.0
PRODID:-//Patriot Guard Riders - ECPv5.3.2.1//NONSGML v1.0//EN
CALSCALE:GREGORIAN
METHOD:PUBLISH
X-WR-CALNAME:Patriot Guard Riders
X-ORIGINAL-URL:https://www.patriotguard.org
X-WR-CALDESC:Events for Patriot Guard Riders
BEGIN:VTIMEZONE
TZID:America/New_York
BEGIN:DAYLIGHT
TZOFFSETFROM:-0500
TZOFFSETTO:-0400
TZNAME:EDT
DTSTART:20190310T070000
END:DAYLIGHT
BEGIN:STANDARD
TZOFFSETFROM:-0400
TZOFFSETTO:-0500
TZNAME:EST
DTSTART:20191103T060000
END:STANDARD
END:VTIMEZONE
BEGIN:VEVENT
DTSTART;VALUE=DATE:20190710
DTEND;VALUE=DATE:20190711
DTSTAMP:20210404T043456
CREATED:20190706T094649Z
LAST-MODIFIED:20190706T094649Z
UID:166781-1562716800-1562803199@www.patriotguard.org
SUMMARY:HOTH Mission
DESCRIPTION:  \n\nHOTH Mission\nHOTH Mission\, Veteran\n\nRiverview\, Florida  07-10-19\n\n\n\nABOUT THE MISSION: \nThe Patriot Guard Riders have been invited to stand a flag line for a ground breaking ceremony. Pulte Homes is building a mortgage free home for a military family in our Ventana community\, located in Riverview\, Florida. We are partnering with Operation Home front in this Built to Honor event.\n\n\nPRIMARY STAGING DETAILS: 07-10-19 \nStaging Time: 09:15 AM  \nMain entrance into Ventana development. intersection of Ventana Groves Blvd. and Symmes Road\ngps coordinates 27°50’06.8″N 82°20’14.9″W\nRiverview\, Florida 33578\nhttps://www.google.com/maps/@27.8345117\,-82.3402498\,572m/data=!3m1!1e3\n\n\nRide Captain: \nBill Franklin\n941-350-2547\ngulfrader@comcast.net\n\n\nSpecial Instructions: \nstage 09:15 AM\nBrief 09:30 AM\nFlag line 09:45 AM\n\n\nFlags & Water:\nFlags will not be provided\nIf you have large bike flags\, please bring them.\nWater WILL NOT be provided\, please bring your own.\n  \n\n\n\nSubmitted By: William Franklin \nPosition: Florida Ride Captain \n\nNote: You do not have to own/ride a motorcycle or be a veteran to join\, and membership is Free. The only requirement is RESPECT! To subscribe to receive mission notices\, log into the National Site and click on the Members tab at the top. Select the Subscribe to PGR Missions option.\n Print This Page
URL:https://www.patriotguard.org/mission/hoth-mission/
CATEGORIES:HOTH Mission
END:VEVENT
END:VCALENDAR