BEGIN:VCALENDAR
VERSION:2.0
PRODID:-//Patriot Guard Riders - ECPv5.6.0//NONSGML v1.0//EN
CALSCALE:GREGORIAN
METHOD:PUBLISH
X-WR-CALNAME:Patriot Guard Riders
X-ORIGINAL-URL:https://www.patriotguard.org
X-WR-CALDESC:Events for Patriot Guard Riders
BEGIN:VTIMEZONE
TZID:America/New_York
BEGIN:DAYLIGHT
TZOFFSETFROM:-0500
TZOFFSETTO:-0400
TZNAME:EDT
DTSTART:20160313T070000
END:DAYLIGHT
BEGIN:STANDARD
TZOFFSETFROM:-0400
TZOFFSETTO:-0500
TZNAME:EST
DTSTART:20161106T060000
END:STANDARD
END:VTIMEZONE
BEGIN:VEVENT
DTSTART;TZID=America/New_York:20160630T090000
DTEND;TZID=America/New_York:20160630T110000
DTSTAMP:20210512T154237
CREATED:20160630T130000Z
LAST-MODIFIED:20191201T154628Z
UID:416222-1467277200-1467284400@www.patriotguard.org
SUMMARY:HOTH - Lt. Daniel P. Riordan  Post Office Dedication / Sappington
DESCRIPTION:The Patriot Guard Riders have been honored with an invitation from  the office of Congresswoman Ann Wagner and the family of Lt. Daniel  Riordan to participate in the Dedication Ceremony of the Sappington  Missouri Post Office Building on 30 June 2016. \nLt. Daniel Patrick Riordan was a Tank Commander in “America’s First  Team”\, joined Blue Platoon\, D Company (the Deamons) 2nd Calvary  Regiment\, 8Th Battalion\, 1St Calvary division at Fort Hood\, Texas. The  Deamons were deployed to Camp Taji\, Iraq in October 2006.  On June 23rd  2007\, a massive IED explosion instantly killed Lt. Riordan and four of  his brave Soldiers. \nStage:  0930\, 30 June 2016\n             Sappington Missouri Post Office\n             11662 Gravois\n             St. Louis\, MO. 63126\n\nRiders Meeting: 0940;  followed by an Honor Flag Line. \nRide Captain: Alan (TheChief) Gann\nalangann@aol.com  314 630-6628\n\nFlag Support: Jim (Tinker) Jarzenbeck
URL:https://www.patriotguard.org/mission/hoth-lt-daniel-p-riordan-post-office-dedication-sappington/
CATEGORIES:Archive
END:VEVENT
END:VCALENDAR