BEGIN:VCALENDAR
VERSION:2.0
PRODID:-//Patriot Guard Riders - ECPv5.6.0//NONSGML v1.0//EN
CALSCALE:GREGORIAN
METHOD:PUBLISH
X-WR-CALNAME:Patriot Guard Riders
X-ORIGINAL-URL:https://www.patriotguard.org
X-WR-CALDESC:Events for Patriot Guard Riders
BEGIN:VTIMEZONE
TZID:America/New_York
BEGIN:DAYLIGHT
TZOFFSETFROM:-0500
TZOFFSETTO:-0400
TZNAME:EDT
DTSTART:20160313T070000
END:DAYLIGHT
BEGIN:STANDARD
TZOFFSETFROM:-0400
TZOFFSETTO:-0500
TZNAME:EST
DTSTART:20161106T060000
END:STANDARD
END:VTIMEZONE
BEGIN:VEVENT
DTSTART;TZID=America/New_York:20160820T090000
DTEND;TZID=America/New_York:20160820T110000
DTSTAMP:20210512T014043
CREATED:20160820T130000Z
LAST-MODIFIED:20191201T154520Z
UID:416119-1471683600-1471690800@www.patriotguard.org
SUMMARY:HOTH - James E. Hall
DESCRIPTION:SPC James E. Hall\, Jr. Memorial Highway \n\n                                                  [ATTACH=CONFIG]5034[/ATTACH]  \n\n\n\n\n\nDied from severe wounds from a bomb blast May 2011 during OEF.   SPC Hall\, Jr. succumbed to those severe injuries 11 November 2011 while recovering at home in Miamisburg\, Ohio. Four days prior to his injuries He and his wife Laura gave birth to their son “Aiden James Hall”. \nThank you to Ohio State Senator Bill Coley for his stick-to-intuitiveness in getting passage of Ohio revised code 5534.29.  In addition to any other name prescribed in the Revised Code or otherwise\, that portion of the road known as state route number seventy-three\, commencing at the intersection of that route and Jacksonburg road and proceeding in an easterly direction to the intersection of that route and Wehr road\, within Butler county only\, shall be known as the “SPC James E. Hall\, Jr.\, Memorial Highway.” \nStaging Location:\nLittle Caesars Pizza\n942 W State St\nTrenton\, OH 45067\nStaging: 20 August 2016 @ 0800hrs-(8 AM)  \nMemorial Service Location:\nButler County Memorial Park\n4570 Trenton Oxford Rd\nHamilton\, OH 45011 \nStarting Time: 20 August 2016@0900hrs-(9 AM) \nDistrict #7 Captain Forrest Rayburn is assigned this mission of Honor and Remembrance. Please follow his instructions. Remember your 3’x5’ American flags and use your own judgment on how you get safely to and from the mission.  If you need to contact Forrest email him at: shrubs2000@gmail.com
URL:https://www.patriotguard.org/mission/hoth-james-e-hall/
CATEGORIES:Archive
END:VEVENT
END:VCALENDAR