BEGIN:VCALENDAR
VERSION:2.0
PRODID:-//Patriot Guard Riders - ECPv5.6.0//NONSGML v1.0//EN
CALSCALE:GREGORIAN
METHOD:PUBLISH
X-WR-CALNAME:Patriot Guard Riders
X-ORIGINAL-URL:https://www.patriotguard.org
X-WR-CALDESC:Events for Patriot Guard Riders
BEGIN:VTIMEZONE
TZID:America/New_York
BEGIN:DAYLIGHT
TZOFFSETFROM:-0500
TZOFFSETTO:-0400
TZNAME:EDT
DTSTART:20160313T070000
END:DAYLIGHT
BEGIN:STANDARD
TZOFFSETFROM:-0400
TZOFFSETTO:-0500
TZNAME:EST
DTSTART:20161106T060000
END:STANDARD
END:VTIMEZONE
BEGIN:VEVENT
DTSTART;TZID=America/New_York:20160729T090000
DTEND;TZID=America/New_York:20160729T110000
DTSTAMP:20210512T151500
CREATED:20160729T130000Z
LAST-MODIFIED:20191201T154550Z
UID:416163-1469782800-1469790000@www.patriotguard.org
SUMMARY:HOTH - Honor Flight
DESCRIPTION:Yellow Ribbon Honor  Flight IV\n\n\nOshkosh\,  WI\nFriday July 29\,  2016\n\n\nThe Patriot Guard Riders will have a  great opportunity to welcome home 110 Vietnam Veterans who will be on Yellow  Ribbon Honor Flight on Friday July 29th at 6:00 p.m. on the EAA Grounds at  Boeing Centennial Plaza. The Yellow Ribbon Honor Flight is a one time  opportunity for Vietnam Veterans to visit the memorials in Washington DC. The  tour is part of the Salute to Veterans events at EAA AirVenture. The flight will  depart from and return to Wittman Field airport in Oshkosh\,  WI. \nDate: July 29\,  2016\nBoeing Centennial Plaza  \nLocated at the east end of  Celebration Way at Whitman Way\nEAA  Grounds\n\nStaging Time:  5:00pm \nFlags will be provided.   \nAnyone wishing to attend can obtain  a free pass for entry For the Yellow Ribbon Honor Flight courtesy of EAA. This  pass will allow entry to the grounds beginning at 5:00 p.m.  Go to www.EAA.org/honorflight\, enter your  information and you will be able to print your tickets at that time. Be patient  it took me a couple of tries to get through.\n\nRide Captain: Mike Weaver skipatroldoc@gmail.com
URL:https://www.patriotguard.org/mission/hoth-honor-flight-159/
CATEGORIES:Archive
END:VEVENT
END:VCALENDAR