BEGIN:VCALENDAR
VERSION:2.0
PRODID:-//Patriot Guard Riders - ECPv5.3.2.1//NONSGML v1.0//EN
CALSCALE:GREGORIAN
METHOD:PUBLISH
X-WR-CALNAME:Patriot Guard Riders
X-ORIGINAL-URL:https://www.patriotguard.org
X-WR-CALDESC:Events for Patriot Guard Riders
BEGIN:VTIMEZONE
TZID:America/New_York
BEGIN:DAYLIGHT
TZOFFSETFROM:-0500
TZOFFSETTO:-0400
TZNAME:EDT
DTSTART:20160313T070000
END:DAYLIGHT
BEGIN:STANDARD
TZOFFSETFROM:-0400
TZOFFSETTO:-0500
TZNAME:EST
DTSTART:20161106T060000
END:STANDARD
END:VTIMEZONE
BEGIN:VEVENT
DTSTART;TZID=America/New_York:20161111T090000
DTEND;TZID=America/New_York:20161111T110000
DTSTAMP:20210401T224649
CREATED:20161111T140000Z
LAST-MODIFIED:20191201T154144Z
UID:415775-1478854800-1478862000@www.patriotguard.org
SUMMARY:HOTH - Home Dedication
DESCRIPTION:Please note that due to ongoing OPSEC/PERSEC concerns\, mission details are not shown in this posting. All relevant details about the Hero will be given at the mission briefing. \n \n\n \nHOTH MISSION\nHome Dedication\nFriday\, 11 November 2016\n\n\nThe Patriot Guard Riders have been given the honor of providing a flag line for a local hero at his new specially adapted custom smart home being graciously donated by the Gary Sinise Foundation.   \nDue to logistics and limited space available for parking\, this will be a motorcycle only escort and flag line.  It will also be limited to a very small number of bikes.  Anyone interested in attending will need to contact the Ride Captain at anettles1102@gmail.com no later than Wednesday\, November 9\, for complete staging information and details of the mission.  \n11 November 2016\nStage:  0915 hrs. in Bethesda\, MD\n\nThere will be a short briefing @ 0930 hrs with KSU @ 0945 hrs.  Ceremony begins promptly at 1005 hrs. \nRide Captains:  Ann and Ted Nettles; 410-967-5717; 240-394-2029 \n\nPlease bring 3 x 5 flags.  If running mounted flags on motorcycles\, please ensure that they are securely mounted.  Ride Captains will check prior to departure.
URL:https://www.patriotguard.org/mission/hoth-home-dedication-3/
CATEGORIES:Archive
END:VEVENT
END:VCALENDAR