BEGIN:VCALENDAR
VERSION:2.0
PRODID:-//Patriot Guard Riders - ECPv5.6.0//NONSGML v1.0//EN
CALSCALE:GREGORIAN
METHOD:PUBLISH
X-WR-CALNAME:Patriot Guard Riders
X-ORIGINAL-URL:https://www.patriotguard.org
X-WR-CALDESC:Events for Patriot Guard Riders
BEGIN:VTIMEZONE
TZID:America/New_York
BEGIN:DAYLIGHT
TZOFFSETFROM:-0500
TZOFFSETTO:-0400
TZNAME:EDT
DTSTART:20160313T070000
END:DAYLIGHT
BEGIN:STANDARD
TZOFFSETFROM:-0400
TZOFFSETTO:-0500
TZNAME:EST
DTSTART:20161106T060000
END:STANDARD
END:VTIMEZONE
BEGIN:VEVENT
DTSTART;TZID=America/New_York:20160827T090000
DTEND;TZID=America/New_York:20160827T110000
DTSTAMP:20210512T032153
CREATED:20160827T130000Z
LAST-MODIFIED:20191201T114349Z
UID:382225-1472288400-1472295600@www.patriotguard.org
SUMMARY:HOTH - Highway Dedication to SFC Gary J. Vasquez\, USA
DESCRIPTION:The  Patriot Guard has been invited to attend a special IL Hwy 160  dedication to SFC Gary J Vasquez.   While serving with the 1st  Battalion\, 7th Special Forces in Afganistan\, SFC Vasquez was killed by  an IED on 29 Sept 2008.  The Patriot Guard participated in honoring SFC  Vasquez at his funeral services in Oct of 2008. \nSFC Vasquez graduated from Highland High School and received his  Bachelor’s Degree in Drama from Illinois State University in 1996.  He  left behind a wife\, Sarah\, with whom he would have celebrated their 2nd  wedding anniversary on 14 Oct 2008. \nThe section of Hwy 160 to be dedicated runs between Highland\, IL\, and Trenton\, IL. \nEVENT DETAILS:\n\nDate:  Sat\, 27 Aug 16\n\nTime:  0900 (9am)\n\nPlace:\nAmerican Legion Hall\n1130 New Trenton Rd\nHighland\, IL\n\nStaging:  0815 hrs (8:15am) at the Legion Hall. \nSRC:\nTerry Spurgeon (618-830-3262) \nRC    \nArne “Fat Fred” Dahlgren (w/flag support)
URL:https://www.patriotguard.org/mission/hoth-highway-dedication-to-sfc-gary-j-vasquez-usa/
END:VEVENT
END:VCALENDAR