BEGIN:VCALENDAR
VERSION:2.0
PRODID:-//Patriot Guard Riders - ECPv5.6.0//NONSGML v1.0//EN
CALSCALE:GREGORIAN
METHOD:PUBLISH
X-WR-CALNAME:Patriot Guard Riders
X-ORIGINAL-URL:https://www.patriotguard.org
X-WR-CALDESC:Events for Patriot Guard Riders
BEGIN:VTIMEZONE
TZID:America/New_York
BEGIN:DAYLIGHT
TZOFFSETFROM:-0500
TZOFFSETTO:-0400
TZNAME:EDT
DTSTART:20160313T070000
END:DAYLIGHT
BEGIN:STANDARD
TZOFFSETFROM:-0400
TZOFFSETTO:-0500
TZNAME:EST
DTSTART:20161106T060000
END:STANDARD
END:VTIMEZONE
BEGIN:VEVENT
DTSTART;TZID=America/New_York:20160713T090000
DTEND;TZID=America/New_York:20160713T110000
DTSTAMP:20210512T230046
CREATED:20160713T130000Z
LAST-MODIFIED:20191201T154606Z
UID:416187-1468400400-1468407600@www.patriotguard.org
SUMMARY:HOTH - Flag Line
DESCRIPTION:St. Louis County Police\nSpecial Olympics Fundraiser\n\n\n\nWe in the St. Louis AO are very fortunate to have outstanding support from all law enforcement jurisdictions from the State Highway Patrol to the local municipalities. \nIt is now our time to support them.  The Officers of 4th Precinct of the St. Louis County Police will be having a fundraiser in support of their association with the Special Olympics.  Our participation will be to establish a flag line in support of their efforts. The 4th Precinct officers will be waiting tables and soliciting donations from the lunch and dinner patrons at Café Telegraph. During the lunch hours we will establish a flag line. \nWe have 3 other missions on Wednesday and they come first.  RC John Faul will have a mission terminating at Jefferson Barracks National Cemetery with a 1030 hrs. slot.  The other 2 will be on the North side of our AO.  Lets support John and his Veteran and family then switch gears and support our LEO’s \nStaging: Wednesday 13 JUL 16\, 1130 HRS (11:30 AM) \nCafé Telegraph  (North of JBNC on Telegraph)\n2650 Telegraph Rd.\nSt. Louis\, MO \nFlag line: We will establish a flag line during the lunch hours \n1130 HRS. to 1330 HRS.  During this same time we can alternate from the flag line to going in to eat if you wish. (not required) \nWeather: Current forecasts calls for a slight chance of storms with temps in the high 80’s. Ride safe\, ride defensively.  Cages welcome! \nOVER-HYDRATE the night before as well as the morning of this mission. \nRide Captain:\nRick “Curly” Kroeger\nrickkroeger@hotmail.com\n314.954.3060 \nFlag Support:\nDenny “Dutchman” Eads
URL:https://www.patriotguard.org/mission/hoth-flag-line-4/
CATEGORIES:Archive
END:VEVENT
END:VCALENDAR