BEGIN:VCALENDAR
VERSION:2.0
PRODID:-//Patriot Guard Riders - ECPv5.6.0//NONSGML v1.0//EN
CALSCALE:GREGORIAN
METHOD:PUBLISH
X-WR-CALNAME:Patriot Guard Riders
X-ORIGINAL-URL:https://www.patriotguard.org
X-WR-CALDESC:Events for Patriot Guard Riders
BEGIN:VTIMEZONE
TZID:America/New_York
BEGIN:DAYLIGHT
TZOFFSETFROM:-0500
TZOFFSETTO:-0400
TZNAME:EDT
DTSTART:20160313T070000
END:DAYLIGHT
BEGIN:STANDARD
TZOFFSETFROM:-0400
TZOFFSETTO:-0500
TZNAME:EST
DTSTART:20161106T060000
END:STANDARD
END:VTIMEZONE
BEGIN:VEVENT
DTSTART;TZID=America/New_York:20160813T090000
DTEND;TZID=America/New_York:20160813T110000
DTSTAMP:20210512T022044
CREATED:20160813T130000Z
LAST-MODIFIED:20191201T154535Z
UID:416141-1471078800-1471086000@www.patriotguard.org
SUMMARY:HOTH - Flag Line
DESCRIPTION:Spirit of 45\nGreatest Generation Breakfast\nNaples\, FL – 13 AUG 16\n\n\nThe SWFL Veterans Alliance\, Inc. requests the Patriot Guard Riders to Honor our WWII Veterans at the 7th Annual Spirit of ‘45 Greatest Generation Breakfast on 13 AUG 16. \nThis is a Tribute to the 75th Anniversary of Pearl Harbor and Florida’s Role in WWII. \nSaturday\, 13 AUG 16\nStaging: 0700 hrs\nHilton Naples\n5111 Tamiami Trail\, N\nNaples\, FL \nhttp://tinyurl.com/olxw63b \nBriefing: 0715 hrs \nFlag line: 0730 hrs \nAfter the arrival of our WWII Veterans we have been invited to stay for breakfast and the program.  Please RSVP if you plan on attending as they need a head count for breakfast. \nRide Captain:  Joan “PGRLabLuvr” Colosimo\nPGRLabLuvr@patriotguard.org \nPlease bring your 3′ x 5′ American Flag to Honor our WWII Veterans service to our great nation.
URL:https://www.patriotguard.org/mission/hoth-flag-line-3/
CATEGORIES:Archive
END:VEVENT
END:VCALENDAR