BEGIN:VCALENDAR
VERSION:2.0
PRODID:-//Patriot Guard Riders - ECPv5.6.0//NONSGML v1.0//EN
CALSCALE:GREGORIAN
METHOD:PUBLISH
X-WR-CALNAME:Patriot Guard Riders
X-ORIGINAL-URL:https://www.patriotguard.org
X-WR-CALDESC:Events for Patriot Guard Riders
BEGIN:VTIMEZONE
TZID:America/New_York
BEGIN:DAYLIGHT
TZOFFSETFROM:-0500
TZOFFSETTO:-0400
TZNAME:EDT
DTSTART:20160313T070000
END:DAYLIGHT
BEGIN:STANDARD
TZOFFSETFROM:-0400
TZOFFSETTO:-0500
TZNAME:EST
DTSTART:20161106T060000
END:STANDARD
END:VTIMEZONE
BEGIN:VEVENT
DTSTART;TZID=America/New_York:20160813T090000
DTEND;TZID=America/New_York:20160813T110000
DTSTAMP:20210511T190847
CREATED:20160813T130000Z
LAST-MODIFIED:20191201T154531Z
UID:416134-1471078800-1471086000@www.patriotguard.org
SUMMARY:HOTH - Escort\, Local Veteran / Sherman
DESCRIPTION:Please note that due to ongoing OPSEC/PERSEC concerns\, mission details are not shown in this posting. All relevant details about the Hero will be given at the mission briefing. \n\nPatriot’s Name: Local Veteran\nMilitary Branch:  United States Marine Corps\nClassification:  Veteran\nAdditional Military Info:  WWII\, Korea (Chosin Reservoir)\, Vietnam\nVeteran \nMission Ride Captain:  Carl “Gunney” Feltner\, Cfeltner@cableone.net\, (903)\n819-6227 \nMission Summary:    Dog Tags Association\, along with the Twilight Wish Foundation\, has asked the PGR to escort a Retired Marine Veteran from Sherman Texas to the train station in Gainesville Texas. \nhttp://www.twilightwish.org/open-wishes/2016/6/30/james-h-87-sherman-tx.html \nPART 1:  Procession\nMission Date:  Aug 13\, 2016 – Saturday\nStaging Time:  08:30\nBriefing Time:  08:45\nIn Position Time Or KSU:  09:00\nService Start Time:  09:30 \nDetails Of Part 1:  This escort will honor an American Hero and Veteran of WWII\, Korea\, and Vietnam.  This veteran was at the Chosin reservoir in 1950\, and one of the many that fought their way out when they were surrounded by 10 Chinese Divisions. We will escort him and his wife to the train station in Gainesville\, where they will catch the train to San Diego for their reunion of the “Chosin Few”. After a safety briefing\, bikes will be aligned for the procession. Law Enforcement Officer escort will be provided the entire route. \nName Of Staging Point:\nRenaissance-Sherman\n3701 Loy Lake Road\nSherman\, Texas 75090 \nPART 2:  Arrival\nMission Date:  Aug 13\, 2016 – Saturday\nStaging Time:  10:30\nDetails Of Part 2:  Flag line will be setup at the train station to honor this veteran and family prior to their departure to San Diego. Upon arrival of the procession\, the PGR will man the flag line and an honors line. When this Hero and family has departed on the train\, Flags will be furled\, short de-briefing\, and riders will be dismissed. \nName Of Staging Point:\nGainesville Train Station\n605 E. California St.\nGainesville\, Texas 76240 \nThis mission is to honor a Hero of three wars. If riders cannot be part of the procession\, please meet the procession at the station and stand an honor line for this Veteran.
URL:https://www.patriotguard.org/mission/hoth-escort-local-veteran-sherman/
CATEGORIES:Archive
END:VEVENT
END:VCALENDAR