BEGIN:VCALENDAR
VERSION:2.0
PRODID:-//Patriot Guard Riders - ECPv5.6.0//NONSGML v1.0//EN
CALSCALE:GREGORIAN
METHOD:PUBLISH
X-WR-CALNAME:Patriot Guard Riders
X-ORIGINAL-URL:https://www.patriotguard.org
X-WR-CALDESC:Events for Patriot Guard Riders
BEGIN:VTIMEZONE
TZID:America/New_York
BEGIN:DAYLIGHT
TZOFFSETFROM:-0500
TZOFFSETTO:-0400
TZNAME:EDT
DTSTART:20160313T070000
END:DAYLIGHT
BEGIN:STANDARD
TZOFFSETFROM:-0400
TZOFFSETTO:-0500
TZNAME:EST
DTSTART:20161106T060000
END:STANDARD
END:VTIMEZONE
BEGIN:VEVENT
DTSTART;TZID=America/New_York:20160531T090000
DTEND;TZID=America/New_York:20160531T110000
DTSTAMP:20210513T155608
CREATED:20160531T130000Z
LAST-MODIFIED:20191201T154727Z
UID:416315-1464685200-1464692400@www.patriotguard.org
SUMMARY:HOTH - Escort
DESCRIPTION:We will be transporting the ashes of Vietnam Veteran and PGR Rider Tim ‘Moboddy’ Janeway from Bullhead City to Amboy\, California. \n\nStaging information:\nDate:               Tuesday 31 May 2016\nTime:               1130 Hrs.\nPlace:               Arizona Affordable Funeral Home and Crematorium.\n                         503 Marina Blvd. Bullhead City\, AZ. \nBriefing:            1145 Hrs. \nKSU:                 1200 Hrs. \nIt is going to be HOT so make sure you are well hydrated if you are on your bikes. Since this is a 200 mile round trip in the heat of the day if you prefer to ride your cage have at it. Totally up to the individual. Just be safe. \nActing Ride Captain for this mission will be Jack Evans.\n[URL=”tel:928-763-5393″]928-763-5393[/URL]              \nsniper1-65@live.com
URL:https://www.patriotguard.org/mission/hoth-escort-5/
CATEGORIES:Archive
END:VEVENT
END:VCALENDAR