BEGIN:VCALENDAR
VERSION:2.0
PRODID:-//Patriot Guard Riders - ECPv5.6.0//NONSGML v1.0//EN
CALSCALE:GREGORIAN
METHOD:PUBLISH
X-WR-CALNAME:Patriot Guard Riders
X-ORIGINAL-URL:https://www.patriotguard.org
X-WR-CALDESC:Events for Patriot Guard Riders
BEGIN:VTIMEZONE
TZID:America/New_York
BEGIN:DAYLIGHT
TZOFFSETFROM:-0500
TZOFFSETTO:-0400
TZNAME:EDT
DTSTART:20160313T070000
END:DAYLIGHT
BEGIN:STANDARD
TZOFFSETFROM:-0400
TZOFFSETTO:-0500
TZNAME:EST
DTSTART:20161106T060000
END:STANDARD
END:VTIMEZONE
BEGIN:VEVENT
DTSTART;TZID=America/New_York:20160529T090000
DTEND;TZID=America/New_York:20160529T110000
DTSTAMP:20210513T163842
CREATED:20160529T130000Z
LAST-MODIFIED:20191201T154817Z
UID:416391-1464512400-1464519600@www.patriotguard.org
SUMMARY:HOTH - Cemetery Dedication Ceremony / Rochester
DESCRIPTION:Attention riders. The Minnesota State Veterans Cemetery in Preston is having their Dedication Ceremony. Sunday May 29\, 2016.  We have been invited to hold a flag line in honor of this great event.  For those of you who have not had the honor of viewing these sacred grounds\, this would be a great opportunity. Please come join us in helping dedicate this wonderful Minnesota Veterans Cemetery. \nThere will be two stagings for this mission. The first will be leaving from Rochester to ride together to Preston. The second will be in Preston. I am asking that if you wish to join us please be at the staging in Preston. We will ride in together\, so they can park us all together. Parking at the cemetery will be very tight. \nRochester staging:\nKwik Trip on Marion Rd. SE. \nStaging opens: 11:30 am\nBriefing: 11:40 am\nLeave for Preston: 11:45 am \nPreston staging: Caseys General Store\, 875 Hwy. 52 in Preston\nStaging opens:12:30 pm\nBriefing:12:40 pm\nLeave for Cemetery: 12:45 pm\nSet flag line:1:30\nDismissal after ceremony ends at RCIC discretion.  \nRCIC: Craig Ugland\nRemember to bring your 3 x 5 American flag.  \nPlease remember this is a rain or shine mission. Please dress for the weather and remember we have to be self sufficient.
URL:https://www.patriotguard.org/mission/hoth-cemetery-dedication-ceremony-rochester/
CATEGORIES:Archive
END:VEVENT
END:VCALENDAR