BEGIN:VCALENDAR
VERSION:2.0
PRODID:-//Patriot Guard Riders - ECPv5.6.0//NONSGML v1.0//EN
CALSCALE:GREGORIAN
METHOD:PUBLISH
X-WR-CALNAME:Patriot Guard Riders
X-ORIGINAL-URL:https://www.patriotguard.org
X-WR-CALDESC:Events for Patriot Guard Riders
BEGIN:VTIMEZONE
TZID:America/New_York
BEGIN:DAYLIGHT
TZOFFSETFROM:-0500
TZOFFSETTO:-0400
TZNAME:EDT
DTSTART:20080309T070000
END:DAYLIGHT
BEGIN:STANDARD
TZOFFSETFROM:-0400
TZOFFSETTO:-0500
TZNAME:EST
DTSTART:20081102T060000
END:STANDARD
END:VTIMEZONE
BEGIN:VEVENT
DTSTART;TZID=America/New_York:20080525T090000
DTEND;TZID=America/New_York:20080525T110000
DTSTAMP:20210513T213808
CREATED:20080525T130000Z
LAST-MODIFIED:20191201T114033Z
UID:381675-1211706000-1211713200@www.patriotguard.org
SUMMARY:HOTH - Cape Cod Cares For Our Troops
DESCRIPTION:CAPE CARES FOR OUR TROOPS – HYANNIS\, MA – 25 MAY 08 \nCape Cod Cares For Our Troops is a non-profit organization started by 14 year old Dylan DeSilva.  Dylan wanted to find away to honor our troops for their sacrifices to our country.  With the help of his family and friends he sends care packages to our troops in and Afghanistan on a weekly basis.  At this event there will be service men and women from all branches of our armed forces standing watch for 24 hours on an hourly basis. \nPlease bring items that you would like to donate for the packages to be sent or you can make a cash donation. \nFor planning purposes we should be arriving at the rest area located at the intersection of Route 6 and Route 132 in Hyannis; timing will be around 10:30 on Sunday\, May 25th. \nFrom there will ride to the shopping center where the event will take place. Exact times will be posted once finalized. \nRIDE CAPTAIN:  Rob Grillo   descent25@hotmail.com \nJim Boland \nState Captain \nMassachusetts PGR
URL:https://www.patriotguard.org/mission/hoth-cape-cod-cares-for-our-troops/
CATEGORIES:Archive
END:VEVENT
END:VCALENDAR