BEGIN:VCALENDAR
VERSION:2.0
PRODID:-//Patriot Guard Riders - ECPv5.6.0//NONSGML v1.0//EN
CALSCALE:GREGORIAN
METHOD:PUBLISH
X-WR-CALNAME:Patriot Guard Riders
X-ORIGINAL-URL:https://www.patriotguard.org
X-WR-CALDESC:Events for Patriot Guard Riders
BEGIN:VTIMEZONE
TZID:America/New_York
BEGIN:DAYLIGHT
TZOFFSETFROM:-0500
TZOFFSETTO:-0400
TZNAME:EDT
DTSTART:20150308T070000
END:DAYLIGHT
BEGIN:STANDARD
TZOFFSETFROM:-0400
TZOFFSETTO:-0500
TZNAME:EST
DTSTART:20151101T060000
END:STANDARD
END:VTIMEZONE
BEGIN:VEVENT
DTSTART;TZID=America/New_York:20150404T090000
DTEND;TZID=America/New_York:20150404T110000
DTSTAMP:20210513T044325
CREATED:20150404T130000Z
LAST-MODIFIED:20191201T114716Z
UID:382949-1428138000-1428145200@www.patriotguard.org
SUMMARY:HOTH
DESCRIPTION:*****Presentation of the Silver Star*****\n\n\nWalter Wunsch\nWWII\nGreene\, IA\n\nWalter  Wunsch\, a member of “The Greatest Generation” and WWII veteran\, who  passed away in 2002\, earned the Silver Star for his actions in the  European Theater. Unfortunately\, he was never presented the award.  Senator Grassley’s office has closed the loop on this unfortunate  oversight\, and the award will be presented to Walter’s widow during a  ceremony at the Community Center in Greene\, Iowa on April 4th\, at  2 PM. Walter’s Family has asked the Iowa Patriot Guard Riders to be  present at this very privileged occasion to show the Honor and Respect  Walter so richly deserves\, and has earned. \n\n\nRALLY POINT: Greene Community Center\, 202 W South St.\, Greene\, Iowa 50636 \nhttps://goo.gl/maps/KX03L\n\n\nRALLY TIME: 12:30 PM\, April 4\, 2015\n\nMission Brief: 12:50 PM with flag line immediately following.\n\n\nRide Captain:\n\nRick Claassen\n\n\n[URL=”tel:%28319%29%20230-9740″](319) 230-9740[/URL]\nhfd650@yahoo.com\n\n\nPosted by:\nScott Rathjens\nSRC\, NE IOWA
URL:https://www.patriotguard.org/mission/hoth-631/
CATEGORIES:Archive
END:VEVENT
END:VCALENDAR