BEGIN:VCALENDAR
VERSION:2.0
PRODID:-//Patriot Guard Riders - ECPv5.3.2.1//NONSGML v1.0//EN
CALSCALE:GREGORIAN
METHOD:PUBLISH
X-WR-CALNAME:Patriot Guard Riders
X-ORIGINAL-URL:https://www.patriotguard.org
X-WR-CALDESC:Events for Patriot Guard Riders
BEGIN:VTIMEZONE
TZID:America/New_York
BEGIN:DAYLIGHT
TZOFFSETFROM:-0500
TZOFFSETTO:-0400
TZNAME:EDT
DTSTART:20160313T070000
END:DAYLIGHT
BEGIN:STANDARD
TZOFFSETFROM:-0400
TZOFFSETTO:-0500
TZNAME:EST
DTSTART:20161106T060000
END:STANDARD
END:VTIMEZONE
BEGIN:VEVENT
DTSTART;TZID=America/New_York:20160330T090000
DTEND;TZID=America/New_York:20160330T110000
DTSTAMP:20210406T013726
CREATED:20160330T130000Z
LAST-MODIFIED:20191201T155022Z
UID:416586-1459328400-1459335600@www.patriotguard.org
SUMMARY:HOTH
DESCRIPTION:Patriot Guard and Associates\, \nWe have been invited by the Commissioner\, State Veterans Affairs\, to attend and stand a Flag Line at the Welcome Home Vietnam Veterans Ceremony\, to be held at the State Capitol Building in Hartford\, CT.  The Ceremony is at 1300 hrs (1:00 pm) in the Hall of Flags. \nAssistant State Captain Jack Casey will be RCIC and Flags will be on site. \nSTAGE:                                 1200 hrs\, Wednesday\, 30 March 2016\n210 Capitol Ave.\nHartford\, CT \n***DUE TO LIMITED PARKING\, IT IS RECOMMENDED THAT YOU ARRIVE EARLY AND PARK IN THE LOB PARKING GARAGE AND WALK TO THE CAPITOL BUILDING EITHER THROUGH THE TUNNEL  OR ALONG THE STREET. ALSO\, FOR SECURITY \, DO NOT BRING ANY WEAPONS INTO THE AREA AS SCREENING WILL PROBABLY BE IN EFFECT.*** \n—\nMac McArthur\nConnecticut State Captain\nstatecaptain@ctpatriotguard.org\nCell:  860-682-7625
URL:https://www.patriotguard.org/mission/hoth-1732/
CATEGORIES:Archive
END:VEVENT
END:VCALENDAR