BEGIN:VCALENDAR
VERSION:2.0
PRODID:-//Patriot Guard Riders - ECPv5.3.2.1//NONSGML v1.0//EN
CALSCALE:GREGORIAN
METHOD:PUBLISH
X-WR-CALNAME:Patriot Guard Riders
X-ORIGINAL-URL:https://www.patriotguard.org
X-WR-CALDESC:Events for Patriot Guard Riders
BEGIN:VTIMEZONE
TZID:America/New_York
BEGIN:DAYLIGHT
TZOFFSETFROM:-0500
TZOFFSETTO:-0400
TZNAME:EDT
DTSTART:20160313T070000
END:DAYLIGHT
BEGIN:STANDARD
TZOFFSETFROM:-0400
TZOFFSETTO:-0500
TZNAME:EST
DTSTART:20161106T060000
END:STANDARD
END:VTIMEZONE
BEGIN:VEVENT
DTSTART;TZID=America/New_York:20160501T090000
DTEND;TZID=America/New_York:20160501T110000
DTSTAMP:20210406T013655
CREATED:20160501T130000Z
LAST-MODIFIED:20191201T154935Z
UID:416513-1462093200-1462100400@www.patriotguard.org
SUMMARY:HOTH
DESCRIPTION:Patriot Guard and Associates\, \nWe have been asked to participate in a Restoration of Valor Ceremony for Walter Gutoski\, Cpl\, US Army\, who was awarded the Bronze Star and a Field Promotion for Meritorious Service as a tank commander in the Battle of the Bulge on 25 April 1945. Under heavy fire and despite being hit\, Cpl Gutoski destroyed two German tanks and a Gunner position to pave the way for his unit. His unit commander named him “Fighting Walter” for his actions.The government lost his paperwork for his Bronze Star and Promotion\, however\, we will award it to him posthumously at a graveside Ceremony to remember his valiant service. The presentation will be made by a surviving Veteran of the Battle of the Bulge. This Hero was the Uncle of fellow PGR and BoD member Scott Wilderman. \nSenior Ride Captain Bob Stone will be RCIC and Flags will be on site. \nSTAGE:                                 1000 hrs (10:00 am)\, Sunday\, 1 May 2016\nPine Grove Cemetery\n857 South Main St.\nMiddletown\, CT 06457 \n—\nMac McArthur\nMassachusetts State Captain\nCell:860-682-7625
URL:https://www.patriotguard.org/mission/hoth-1674/
CATEGORIES:Archive
END:VEVENT
END:VCALENDAR