BEGIN:VCALENDAR
VERSION:2.0
PRODID:-//Patriot Guard Riders - ECPv5.6.0//NONSGML v1.0//EN
CALSCALE:GREGORIAN
METHOD:PUBLISH
X-WR-CALNAME:Patriot Guard Riders
X-ORIGINAL-URL:https://www.patriotguard.org
X-WR-CALDESC:Events for Patriot Guard Riders
BEGIN:VTIMEZONE
TZID:America/New_York
BEGIN:DAYLIGHT
TZOFFSETFROM:-0500
TZOFFSETTO:-0400
TZNAME:EDT
DTSTART:20160313T070000
END:DAYLIGHT
BEGIN:STANDARD
TZOFFSETFROM:-0400
TZOFFSETTO:-0500
TZNAME:EST
DTSTART:20161106T060000
END:STANDARD
END:VTIMEZONE
BEGIN:VEVENT
DTSTART;TZID=America/New_York:20160625T090000
DTEND;TZID=America/New_York:20160625T110000
DTSTAMP:20210513T131430
CREATED:20160625T130000Z
LAST-MODIFIED:20191201T154905Z
UID:416468-1466845200-1466852400@www.patriotguard.org
SUMMARY:HOTH
DESCRIPTION:Brainerd Sector Meet & Greet\nJune 25\, 2016 0830 to 0945 \n\n\n\n(Ride Briefing 0945) \nM & G at the Lum Park\, Hwy 210 just on the east edge of Brainerd hosted by the Crow Wing County Area’s Yellow Ribbon Network. Targeted attendees: Anyone who wants to honor and remember our fallen veterans and families and especially our Gold Star Families. Everyone is invited and we are hoping to see members of the Combat Vets\, Vietnam Vets and Legion Riders. This will give us an opportunity to let others see what we are all about and to find out about what they are about also. \nThe meeting will be mostly about everyone just getting together and enjoying the company of fellow patriots away from the formality of a mission however there will be a couple of items to be discussed. Meet and see what the Brainerd Sector RC has to say and whats coming up in the Patriot Guard. \nOur M & G will be in conjunction with those of some of the other sectors. Here is some of what Rick Rakow of the St. Cloud Sector has to say about the day: \nIn 2015 we tried a never forget day for all the fallen and it was a great success. For 2016 we are once again having a day to remember. I would like to invite you both to be a part of our day and not to work at it but rather to be a part of the group that will reflect back in time on all the losses we have had in MN. You are welcome to meet with us in Randall or go directly to the State Veterans Cemetery where the main program will be. As you talk to other people please share the information and time lines as this is meant to be a day to remember all the fallen. \nSo after our M & G anyone who wishes can participate in the ride to Randall\, the ride to the State Veterans Cemetery and the picnic at Morrison County Park as follows: \nDepart For Randall MN at 10:00 \nRandall VFW to open at 11:00 AM for anyone wanting to start there \nFollowing the Brainerd Sector meeting at Lum Park many are traveling back roads to the Randall MN VFW to meet up with other PGR Sectors\, Gold Star Families\, families of all fallen Veterans\, and all others interested in wanting to honor Veterans. Ice Breaker at the Randall MN VFW sponsored by the Randall VFW and supported by Yellow Ribbon Members. \n(Cemetery Ride Briefing 12:00 PM) \nDepart Randal going to MN State Veterans Cemetery Little Falls 12:15 \nMN STATE VETERANS CEMETERY PROGRAM 1PM—1:30 PM \nFollowing the Randall MN Ice Breaker we will move as 1 group to the MN State Veterans Cemetery in Little Falls for the Never Forget Ceremony. Bagpiper Joseph Nadeau is providing music before the start of the Ceremony and will end the Ceremony after the release of Never Forget Balloons. \nThere will be a Balloon release at the Cemetery for anyone wishing to Honor a Fallen Veteran please RSVP your ride Captain to make sure the Veteran Name\, Rank\, and Branch of Service is added to the main program list \nDEPART CEMETERY 1:45 (Fly Flags to Picnic Area) \nPicnic to start at 2:00 PM\, AFTER SPEAKERS / PRESENTATIONS \nFollowing the Cemetery everyone is invited to the Morrison County (Belle Prairie) Park for a Picnic Meal Sponsored by the Wreaths for the Fallen (a good will donation bucket) will be available at the Picnic to offset the meal cost and allow everyone a chance to donate to the Wreaths for the Fallen general fund to help purchase Wreaths for the Little Falls Minnesota State Veterans Cemetery. \nNote: Anyone may participate in all or any part of the days events. You can feel comfortable attending any part of the day. You will be with those having the same Patriotic interests as you do. All types of vehicles are invited. \nNote: All time lines are approximate at this time. This is a rain or shine event. Any type of vehicle and whether you get there by yourself or as a group is up to you. If/when you know you will be attending please RSVP your Ride Captain so we have some idea of how many to prepare for. \nWe plan a slow (we do have to do the speed limit on Hwy 210)\, safe\, relaxing ride to Randall with at least one stop (at Pillager) to allow anyone to catch up. \nContact:\nJames Parent\nbrainerdarc3@mnpatriotguard.org
URL:https://www.patriotguard.org/mission/hoth-1640/
CATEGORIES:Archive
END:VEVENT
END:VCALENDAR