BEGIN:VCALENDAR
VERSION:2.0
PRODID:-//Patriot Guard Riders - ECPv5.6.0//NONSGML v1.0//EN
CALSCALE:GREGORIAN
METHOD:PUBLISH
X-WR-CALNAME:Patriot Guard Riders
X-ORIGINAL-URL:https://www.patriotguard.org
X-WR-CALDESC:Events for Patriot Guard Riders
BEGIN:VTIMEZONE
TZID:America/New_York
BEGIN:DAYLIGHT
TZOFFSETFROM:-0500
TZOFFSETTO:-0400
TZNAME:EDT
DTSTART:20160313T070000
END:DAYLIGHT
BEGIN:STANDARD
TZOFFSETFROM:-0400
TZOFFSETTO:-0500
TZNAME:EST
DTSTART:20161106T060000
END:STANDARD
END:VTIMEZONE
BEGIN:VEVENT
DTSTART;TZID=America/New_York:20160530T090000
DTEND;TZID=America/New_York:20160530T110000
DTSTAMP:20210513T190529
CREATED:20160530T130000Z
LAST-MODIFIED:20191201T154827Z
UID:416407-1464598800-1464606000@www.patriotguard.org
SUMMARY:HOTH
DESCRIPTION:Patriots once again all PGR brothers and sisters have been invited to attend a WWII Veterans celebration. Most of us PGR members have been here before to honor and celebrate the men and woman that proudly served during the WWII. I urge all PGR members that can come to celebrate a day with our true hero’s that protected this great nation. So please join us and show our respect with a fellowship supper with our WWII Veterans. \nThis will be a greeting for the arrival of our WWII veterans will be in limos\, from there we will escort our WWII Veterans to the Fair House with LEO leading the Patriot Guard and our WWII hero’s. \nStaging: 3:00 pm at 220 West Kings Hwy\, Eden\, NC 27288 \nhttp://tinyurl.com/jrnysgh  \nBriefing: 3:30 pm right after the briefing we will wait for the arrival of the WWII Veterans and greet them if time permits. \nKSU: @ 4:00 pm Sharp in which LEO will escort us to the MFH. Once we arrive we will help the WWII Veterans to their seats and then establish a Flag line for the ceremony. Once the ceremony is completed we will stand down and join the veterans with a meal provide by the MFH and share many stories. All Cage vehicles will be behind the WWII Veterans Limo or you can go straight to the MFH and have flags ready. RC will have plenty of water and snacks. \nThe address to the Morehead Fair House is 420 Boone Road\, Eden\, NC 27288 \nhttp://tinyurl.com/hq9vtsn \nPlease dress appropriately for this event and please watch the weather forecast and the condition. \nRC/POC:  Stacy Toland\nHalfpints7676@gmail.com\n9910-528-6060 \n\nSPECIAL NOTE: Safety is of our utmost priority. Every effort possible is made in planning and executing the PGR Mission statement in a manner that minimizes the inherit dangers of riding a motorcycle\, including riding in groups of all sizes and any situation. While the NCPG and its riders have a remarkable safety record in the execution of our missions\, infrequently members have been injured in unforeseen accidents. In an effort to mitigate the risk of preventable accidents\, all attendees who wish to ride in a Patriot Guard motorcycle escort or ride are asked to attend the permission briefing. It will include a safety briefing\, and any unique ride information known to our RCIC that may be specific to the mission. Member safety and well-being is always a principal ongoing concern\, our RCIC’s are asked to stand down from any mission that cannot be accomplished in relative safety or unreasonable risk. This includes both rides and flag lines in inclement weather and conditions. It remains each individual PGR member’s responsibility to ride within their own comfort zone and be cognizant of their surroundings and skill limitations as well as any physical needs or limitations. If the ride and/or mission conditions present challenges beyond your skill\, comfort\, or needs you are expected to exercise good judgment in foregoing any planned participation.
URL:https://www.patriotguard.org/mission/hoth-1591/
CATEGORIES:Archive
END:VEVENT
END:VCALENDAR