BEGIN:VCALENDAR
VERSION:2.0
PRODID:-//Patriot Guard Riders - ECPv5.6.0//NONSGML v1.0//EN
CALSCALE:GREGORIAN
METHOD:PUBLISH
X-WR-CALNAME:Patriot Guard Riders
X-ORIGINAL-URL:https://www.patriotguard.org
X-WR-CALDESC:Events for Patriot Guard Riders
BEGIN:VTIMEZONE
TZID:America/New_York
BEGIN:DAYLIGHT
TZOFFSETFROM:-0500
TZOFFSETTO:-0400
TZNAME:EDT
DTSTART:20160313T070000
END:DAYLIGHT
BEGIN:STANDARD
TZOFFSETFROM:-0400
TZOFFSETTO:-0500
TZNAME:EST
DTSTART:20161106T060000
END:STANDARD
END:VTIMEZONE
BEGIN:VEVENT
DTSTART;TZID=America/New_York:20160529T090000
DTEND;TZID=America/New_York:20160529T110000
DTSTAMP:20210513T164405
CREATED:20160529T130000Z
LAST-MODIFIED:20191201T154737Z
UID:416329-1464512400-1464519600@www.patriotguard.org
SUMMARY:HOTH
DESCRIPTION:Ladies and Gentlemen of the Patriot Guard Riders\, \n\nWe have been invited to attend the Silverdale HOG Veterans Run at Retsil Veterans Home in Port Orchard. This is Silverdale HOG’s annual veterans’ appreciation event.\nThis will be a Flag Line Mission only. \n MISSION THREAD:  \n\nMISSION DATE:  \nSunday\, 29 May\, 2016\n\nSTAGING LOCATION:  \nAlbertsons\n1434 Olney Ave Se \nPort Orchard\, Washington 98366\n\nRIDE PLAN:\n0845     RC’s & SV Arrive\n0900     Riders arrive – filled\, drained & sign-in\n0930     Mission / Safety Brief\n0945     KSU for services location\n1000     Set up flag line\n1030     Silverdale HOG Arrives – Flag Line moves\n1100     Service Begins\nEnd of Service: flag line fades away to SV for debrief\n\nPrimary Ride Captain:  Lyall “Joker” Smith\, lyalls@aol.com [URL=”tel:360-791-4639″]360-791-4639[/URL]\n  Second Ride Captain:  TBD\nSupport Vehicle:  TBD
URL:https://www.patriotguard.org/mission/hoth-1525/
END:VEVENT
END:VCALENDAR