BEGIN:VCALENDAR
VERSION:2.0
PRODID:-//Patriot Guard Riders - ECPv5.6.0//NONSGML v1.0//EN
CALSCALE:GREGORIAN
METHOD:PUBLISH
X-WR-CALNAME:Patriot Guard Riders
X-ORIGINAL-URL:https://www.patriotguard.org
X-WR-CALDESC:Events for Patriot Guard Riders
BEGIN:VTIMEZONE
TZID:America/New_York
BEGIN:DAYLIGHT
TZOFFSETFROM:-0500
TZOFFSETTO:-0400
TZNAME:EDT
DTSTART:20160313T070000
END:DAYLIGHT
BEGIN:STANDARD
TZOFFSETFROM:-0400
TZOFFSETTO:-0500
TZNAME:EST
DTSTART:20161106T060000
END:STANDARD
END:VTIMEZONE
BEGIN:VEVENT
DTSTART;TZID=America/New_York:20160602T090000
DTEND;TZID=America/New_York:20160602T110000
DTSTAMP:20210513T162534
CREATED:20160602T130000Z
LAST-MODIFIED:20191201T154728Z
UID:416317-1464858000-1464865200@www.patriotguard.org
SUMMARY:HOTH
DESCRIPTION:Team Redstone Protection Day\nRedstone Arsenal\, AL\n02 June 2016 \nThe U.S. Army Command\, AMCOM and AMSAM-OPS have asked the Patriot Guard to participate in Team Redstone Protection Day by having a table set up for greet\, meet and recruit in the exhibits area of MWR Event Field. \nWe are Honored to do so. \nStaging: 07:30\, Thursday 02 June 2016 \nKawanis Metro Sports-Plex parking lot( for ride in together)\nNW corner of Jordan Ln. and Drake Ave.\nHuntsville\, Al. \nGate info at briefing. \nEvent: 10:00-14:00 (2pm)\nMWR Event Field\nRedstone Arsenal\, AL \nRCIC:\nCoop   DRC\n256-653-2896\npgrcoop@gmail.com \nRCIC:\nVickie Meader   RC/HC\n256-508-9605\nduanevickie@mindspring.com
URL:https://www.patriotguard.org/mission/hoth-1515/
CATEGORIES:Archive
END:VEVENT
END:VCALENDAR