BEGIN:VCALENDAR
VERSION:2.0
PRODID:-//Patriot Guard Riders - ECPv5.6.0//NONSGML v1.0//EN
CALSCALE:GREGORIAN
METHOD:PUBLISH
X-WR-CALNAME:Patriot Guard Riders
X-ORIGINAL-URL:https://www.patriotguard.org
X-WR-CALDESC:Events for Patriot Guard Riders
BEGIN:VTIMEZONE
TZID:America/New_York
BEGIN:DAYLIGHT
TZOFFSETFROM:-0500
TZOFFSETTO:-0400
TZNAME:EDT
DTSTART:20160313T070000
END:DAYLIGHT
BEGIN:STANDARD
TZOFFSETFROM:-0400
TZOFFSETTO:-0500
TZNAME:EST
DTSTART:20161106T060000
END:STANDARD
END:VTIMEZONE
BEGIN:VEVENT
DTSTART;TZID=America/New_York:20160604T090000
DTEND;TZID=America/New_York:20160604T110000
DTSTAMP:20210513T152035
CREATED:20160604T130000Z
LAST-MODIFIED:20191201T154722Z
UID:416308-1465030800-1465038000@www.patriotguard.org
SUMMARY:HOTH
DESCRIPTION:Welcome Home Initiative Closing Ceremony\nLady Lake\, FL.\nSaturday\, June 4\, 2016\n\n\n\nThe Welcome Home Initiative has invited the Patriot Guard Riders to attend the closing ceremonies of the Welcome Home Initiative Retreat.  The Welcome Home Initiative is conducting a Retreat to help war zone Veterans heal from the effects of PTSD.  They have completed 25 Retreats across the country and have helped hundreds of Veterans deal with the effects of PTSD.  The PGR has been a vital component to their closing ceremonies in the past and hopefully they will invite us again in the future. \nThis Retreat last three days and will be hosting over 40 Veterans\, with food and lodging provided at no cost.  The closing ceremony is open to the public and they expect press and TV coverage. \nPlease bring your 3 X 5 American Flags and join us as we stand and show our Brothers & Sisters suffering from the effects of PTSD that they are not alone in their quest to heal. \nItinerary: \nSt. George Episcopal Church\n1250 Paige Pl.\nLady Lake\, FL.\, 32159 \nMap:   https://goo.gl/bAfUly \nStage: 0900 hrs \nBrief: 0915 hrs \nFlag Line: As determined by Ride Captain \nService: 1000 hrs \nRide Captain:\nCharles “Santa” Richardson (Honorary)\nflashee@embarqmail.com\n352-728-1141 \nRespectfully submitted:\nDavid “Flyboy” Shelton\nFL ASC
URL:https://www.patriotguard.org/mission/hoth-1508/
CATEGORIES:Archive
END:VEVENT
END:VCALENDAR