BEGIN:VCALENDAR
VERSION:2.0
PRODID:-//Patriot Guard Riders - ECPv5.6.0//NONSGML v1.0//EN
CALSCALE:GREGORIAN
METHOD:PUBLISH
X-WR-CALNAME:Patriot Guard Riders
X-ORIGINAL-URL:https://www.patriotguard.org
X-WR-CALDESC:Events for Patriot Guard Riders
BEGIN:VTIMEZONE
TZID:America/New_York
BEGIN:DAYLIGHT
TZOFFSETFROM:-0500
TZOFFSETTO:-0400
TZNAME:EDT
DTSTART:20160313T070000
END:DAYLIGHT
BEGIN:STANDARD
TZOFFSETFROM:-0400
TZOFFSETTO:-0500
TZNAME:EST
DTSTART:20161106T060000
END:STANDARD
END:VTIMEZONE
BEGIN:VEVENT
DTSTART;TZID=America/New_York:20160609T090000
DTEND;TZID=America/New_York:20160609T110000
DTSTAMP:20210513T183349
CREATED:20160609T130000Z
LAST-MODIFIED:20191201T154714Z
UID:416296-1465462800-1465470000@www.patriotguard.org
SUMMARY:HOTH
DESCRIPTION:Please note that due to ongoing OPSEC concerns\, mission details are not shown in this posting. All specific details and updates have been sent to members directly via their e-mail address on file. \nThe Town of Guilderland has requested the participation of the Patriot Guard Riders in a street naming ceremony to honor US Army SPC Rafael A. Nieves Jr. \nWHEN / WHERE:\nThursday\, June 9\, 2016 \nGuilderland\, NY \nStage at Town Hall for street naming ceremony. Flag Line prior to\, and during ceremony. \nLRC:\nRay Sestak\nrayspgrny@gmail.com \nABOUT THIS MISSION:\nSPC Rafael A. Nieves Jr.\, while assigned to 1st Battalion\, 506th Infantry Regiment\, 4th Brigade Combat Team\, 101st Airborne Division (Air Assault)\, Fort Campbell\, KY.\, died July 10\, 2011 at FOB Orgun-E\, Paktika province\, Afghanistan\, of wounds suffered when enemy forces attacked his vehicle with small-arms and rocket-propelled grenade fire. \nThe Patriot Guard Riders were honored to participate in SPC Nieves military honors funeral services in 2011\, and are honored to be able to stand once again to demonstrate honor\, dignity and respect for the life and service of this Operation Enduring Freedom Hero.
URL:https://www.patriotguard.org/mission/hoth-1499/
CATEGORIES:Archive
END:VEVENT
END:VCALENDAR