BEGIN:VCALENDAR
VERSION:2.0
PRODID:-//Patriot Guard Riders - ECPv5.6.0//NONSGML v1.0//EN
CALSCALE:GREGORIAN
METHOD:PUBLISH
X-WR-CALNAME:Patriot Guard Riders
X-ORIGINAL-URL:https://www.patriotguard.org
X-WR-CALDESC:Events for Patriot Guard Riders
BEGIN:VTIMEZONE
TZID:America/New_York
BEGIN:DAYLIGHT
TZOFFSETFROM:-0500
TZOFFSETTO:-0400
TZNAME:EDT
DTSTART:20160313T070000
END:DAYLIGHT
BEGIN:STANDARD
TZOFFSETFROM:-0400
TZOFFSETTO:-0500
TZNAME:EST
DTSTART:20161106T060000
END:STANDARD
END:VTIMEZONE
BEGIN:VEVENT
DTSTART;TZID=America/New_York:20160606T090000
DTEND;TZID=America/New_York:20160606T110000
DTSTAMP:20210513T164231
CREATED:20160606T130000Z
LAST-MODIFIED:20191201T154712Z
UID:416293-1465203600-1465210800@www.patriotguard.org
SUMMARY:HOTH
DESCRIPTION:Please note that due to ongoing OPSEC concerns\, mission details are not shown in this posting. All specific details and updates have been sent to members directly via their e-mail address on file.  \nPatriots –  \nWe have been invited by the Bonacasa family to stand a flag line at the ribbon cutting ceremony where USAF SSGT Louis Bonacasa’s widow will be presented with the keys to their new home.  More details on this hero will be disclosed at briefing. \nWhen:  Monday 6/6/2016\n\nMiller Place\, NY \nLandmark Properties Homes for Returning Veterans is the company donating the home and they will be on hand as well as VFW representatives\, Town\, County\, State and Federal officials. \nAnother USAF Veteran Josh Johnson who enlisted in the Air Force when he was 17 will be getting the keys to his new home right next door so this will be a ceremony for both. Josh served multiple tours in Iraq and Afghanistan. More details on this hero will be disclosed at briefing.\n\nAs you remember we stood for USAF SSGT Louis Bonacasa back in the beginning of January after he was KIA 12/21/15 in Afghanistan. The original post link: https://www.patriotguard.org/showthread.php?412355-SSgt-Louis-M-Bonacasa-31-NYANG-Miller-Place-Calverton-NY-31-DEC-15-01-02-JAN-16.  Please come out and join us for this joyous occasion. \nAlso as a second part to this if any members would like to stick around after the ceremony to load some furniture that will be in a trailer onsite into the new home the family would be appreciative.\n\nLRC \nJohn Fenech\n[URL=”tel:631-793-0096″]631-793-0096[/URL]
URL:https://www.patriotguard.org/mission/hoth-1497/
CATEGORIES:Archive
END:VEVENT
END:VCALENDAR