BEGIN:VCALENDAR
VERSION:2.0
PRODID:-//Patriot Guard Riders - ECPv5.6.0//NONSGML v1.0//EN
CALSCALE:GREGORIAN
METHOD:PUBLISH
X-WR-CALNAME:Patriot Guard Riders
X-ORIGINAL-URL:https://www.patriotguard.org
X-WR-CALDESC:Events for Patriot Guard Riders
BEGIN:VTIMEZONE
TZID:America/New_York
BEGIN:DAYLIGHT
TZOFFSETFROM:-0500
TZOFFSETTO:-0400
TZNAME:EDT
DTSTART:20160313T070000
END:DAYLIGHT
BEGIN:STANDARD
TZOFFSETFROM:-0400
TZOFFSETTO:-0500
TZNAME:EST
DTSTART:20161106T060000
END:STANDARD
END:VTIMEZONE
BEGIN:VEVENT
DTSTART;TZID=America/New_York:20160611T090000
DTEND;TZID=America/New_York:20160611T110000
DTSTAMP:20210513T082704
CREATED:20160611T130000Z
LAST-MODIFIED:20191201T154652Z
UID:416261-1465635600-1465642800@www.patriotguard.org
SUMMARY:HOTH
DESCRIPTION:It is that time again for our monthly Ice Cream Social at the Eagle’s Nest in Decatur. If you are not otherwise committed to another activity come out and meet some of our heroes. They will be happy to see you and talk to you. Many of these heroes have few visitors. Come out to help\, it will make your heart happy.\n\nStaging: 11:30 a.m. \nEagle’s Nest CLC – VA\n1670 Clarimont Rd.\nDecatur\, Ga.\n\n—\nPam “KOP” Long\npeabody10_30043@yahoo.com\n770-339-8188 (H)\n404-376-2887 (C)
URL:https://www.patriotguard.org/mission/hoth-1470/
END:VEVENT
END:VCALENDAR