BEGIN:VCALENDAR
VERSION:2.0
PRODID:-//Patriot Guard Riders - ECPv5.6.0//NONSGML v1.0//EN
CALSCALE:GREGORIAN
METHOD:PUBLISH
X-WR-CALNAME:Patriot Guard Riders
X-ORIGINAL-URL:https://www.patriotguard.org
X-WR-CALDESC:Events for Patriot Guard Riders
BEGIN:VTIMEZONE
TZID:America/New_York
BEGIN:DAYLIGHT
TZOFFSETFROM:-0500
TZOFFSETTO:-0400
TZNAME:EDT
DTSTART:20160313T070000
END:DAYLIGHT
BEGIN:STANDARD
TZOFFSETFROM:-0400
TZOFFSETTO:-0500
TZNAME:EST
DTSTART:20161106T060000
END:STANDARD
END:VTIMEZONE
BEGIN:VEVENT
DTSTART;TZID=America/New_York:20160614T090000
DTEND;TZID=America/New_York:20160614T110000
DTSTAMP:20210513T172046
CREATED:20160614T130000Z
LAST-MODIFIED:20191201T154646Z
UID:416251-1465894800-1465902000@www.patriotguard.org
SUMMARY:HOTH
DESCRIPTION:Mission Name:Flag Day:  Motorcycles at the Manor\nClassification:  Community Event \nMission Ride Captain:\nGene DeBord\, gene.debord@yahoo.com\, (940) 733-4376 \nRide Captain #2:\nMike “Weldermike” Johnson\, weldermike@aol.com\, (940) 224-2872 \nMission Summary:\nWe have been invited by the management at Presbyterian Manor in Wichita Falls to participate in honoring the Veterans living there at their Flag Day Celebration. \nPART 1:  Ride into Presbyterian Manor and participate in Flag Day Celebration\nMission Date:  Jun 14\, 2016 – Tuesday\nStaging Time:  17:45\nBriefing Time:  18:00\nIn Position Time Or KSU:  18:15 \nDetails Of Part 1:\nWe will stage off site at the south parking lot of the First Presbyterian Church on Taft Blvd. At approximately 18:15\, we will ride south three blocks to the Presbyterian Manor located at 4600 Taft Blvd.\, where we will circle around to behind the building where the ambulatory residents will be waiting. Those in cages who wish to put flags or other decorations on their\nvehicles can follow the bikes in. Those in cages not wishing to ride in can meet us at the rear of the building and participate in the festivities.  We will present a certificate to the Manor in honor of the resident veterans\, past and present\, and we will also have some small tokens of our appreciation we will present to each veteran present. \nName Of Staging Point:\nSouth Parking area of First Presbyterian Church in Wichita Falls. Intersection of Taft and Kirk ( across Kirk from 3701 Taft)\nWichita Falls\, Texas 76308 \nNormally it is our job to stand tall and silent as these heroes are laid to rest. On this mission\, it will be our job to show them a good time and make sure they know their service is appreciated. So let’s turn out to honor these old Veterans while they are still among us. Those of us who have had the privilege of participating in one of these celebrations can testify to the great feelings we leave with.
URL:https://www.patriotguard.org/mission/hoth-1461/
CATEGORIES:Archive
END:VEVENT
END:VCALENDAR