BEGIN:VCALENDAR
VERSION:2.0
PRODID:-//Patriot Guard Riders - ECPv5.6.0//NONSGML v1.0//EN
CALSCALE:GREGORIAN
METHOD:PUBLISH
X-WR-CALNAME:Patriot Guard Riders
X-ORIGINAL-URL:https://www.patriotguard.org
X-WR-CALDESC:Events for Patriot Guard Riders
BEGIN:VTIMEZONE
TZID:America/New_York
BEGIN:DAYLIGHT
TZOFFSETFROM:-0500
TZOFFSETTO:-0400
TZNAME:EDT
DTSTART:20160313T070000
END:DAYLIGHT
BEGIN:STANDARD
TZOFFSETFROM:-0400
TZOFFSETTO:-0500
TZNAME:EST
DTSTART:20161106T060000
END:STANDARD
END:VTIMEZONE
BEGIN:VEVENT
DTSTART;TZID=America/New_York:20160624T090000
DTEND;TZID=America/New_York:20160624T110000
DTSTAMP:20210513T145816
CREATED:20160624T130000Z
LAST-MODIFIED:20191201T154644Z
UID:416247-1466758800-1466766000@www.patriotguard.org
SUMMARY:HOTH
DESCRIPTION:The Kentucky Patriot Guard Riders have been invited to  participate in the Groundbreaking Ceremony for the “Gold Star Families  Memorial Monument” at the Kentucky Veterans Cemetery Central\, located in  Radcliff\, KY.\n\nFRIDAY\nJUNE 24\, 2016 \n08:00 Staging and Staking of flags  \n10:00 Groundbreaking at KVCC Begins \nKentucky Veterans Cemetery Central (KVCC)\n2501 North Dixie Boulevard\nRadcliff\, KY 40160\n\nPlease be prepared for the hot weather conditions and Ride  Safely.  Please stage at the main building to the right as you enter  the Cemetery and move forward as requested by the Ride Captain. This  will ensure we do not disturb any other services taking place. \nRIDE CAPTAIN(S)\nAngela Smith smith.paul@twc.com\nDon Gilmore dgilmore@bbtel.com\nMickey Townsend legs00069@gmail.com\nJames (Danny) Johnson\, Senior Ride Captain\, roughriverdan@yahoo.com
URL:https://www.patriotguard.org/mission/hoth-1457/
END:VEVENT
END:VCALENDAR