BEGIN:VCALENDAR
VERSION:2.0
PRODID:-//Patriot Guard Riders - ECPv5.6.0//NONSGML v1.0//EN
CALSCALE:GREGORIAN
METHOD:PUBLISH
X-WR-CALNAME:Patriot Guard Riders
X-ORIGINAL-URL:https://www.patriotguard.org
X-WR-CALDESC:Events for Patriot Guard Riders
BEGIN:VTIMEZONE
TZID:America/New_York
BEGIN:DAYLIGHT
TZOFFSETFROM:-0500
TZOFFSETTO:-0400
TZNAME:EDT
DTSTART:20160313T070000
END:DAYLIGHT
BEGIN:STANDARD
TZOFFSETFROM:-0400
TZOFFSETTO:-0500
TZNAME:EST
DTSTART:20161106T060000
END:STANDARD
END:VTIMEZONE
BEGIN:VEVENT
DTSTART;TZID=America/New_York:20160617T090000
DTEND;TZID=America/New_York:20160617T110000
DTSTAMP:20210513T135613
CREATED:20160617T130000Z
LAST-MODIFIED:20191201T154641Z
UID:416243-1466154000-1466161200@www.patriotguard.org
SUMMARY:HOTH
DESCRIPTION:We have been asked to participate this Friday\, 17 June 2016\, in Jacksonville\, NC @ the Beruit Memorial. We are asking PHG to Join us. \nSgt Maj. Maysfield has invited us to support his “For the Fallen” celebration on 17 Jun (this Friday).  He asked that we arrive at the Beruit Memorial 0730 for the ceremony. The SgtMaj requested that we mount our bikes and ride up to the assembled guest and make a lot of noise as we do for the home coming on base\, and that will be the extent of our participation\, whereby the guests will board the buses and proceed to D.C. for continuation of the memorial both that night and the following day. \nWe the bikers will go to the Kettle for breakfast around 0830 after the ceremony. \nI hope this will generate our PGR here to come out. \nStaging:\nFriday 17 June 2016\nParking lot next to Beruit Memorial\n0730 \nMap for Staging\nhttps://goo.gl/maps/4xUcYWa7P662 \nAfter we are go to the Kettle for Breakfast\, join us if you like. \nThis HOTH is about.\nhttp://www.mojjjovets.org/ \n—\nCraig\nSgt Bellile\npgr.develdog@gmail.com\n[URL=”tel:910-388-5943″]910-388-5943[/URL] \n**SPECIAL NOTE: Safety is of our utmost priority.  Every effort possible is made in planning and executing the PGR Mission statement in a manner that minimizes the inherit dangers of riding a motorcycle\, including riding in groups of all sizes and any situation.  While the NCPG\, and it’s riders have a remarkable safety record in the execution of our missions\, infrequently members have been injured in unforeseen accidents.  In an effort to mitigate the risk of preventable accidents\, all attendees who wish to ride in a Patriot Guard motorcycle escort or ride are asked to attend the pre-mission briefing.  It will include a safety briefing\, and any unique ride information known to our RCIC that may be specific to the mission.  Member safety and well-being is always a principal ongoing concern\, our RCIC’s are asked to stand-down from any mission that cannot be accomplished in relative safety or unreasonable risk.  This includes both rides and flag lines in inclement weather and conditions.  It remains each individual PGR member’s responsibility to ride within their own comfort zone and be cognizant of their surroundings and skill limitations as well as any physical needs or limitations.  If the ride and/or mission conditions present challenges beyond your skill\, comfort\, or needs you are expected to exercise good judgment in foregoing any planned participation.
URL:https://www.patriotguard.org/mission/hoth-1453/
CATEGORIES:Archive
END:VEVENT
END:VCALENDAR