BEGIN:VCALENDAR
VERSION:2.0
PRODID:-//Patriot Guard Riders - ECPv5.3.2.1//NONSGML v1.0//EN
CALSCALE:GREGORIAN
METHOD:PUBLISH
X-WR-CALNAME:Patriot Guard Riders
X-ORIGINAL-URL:https://www.patriotguard.org
X-WR-CALDESC:Events for Patriot Guard Riders
BEGIN:VTIMEZONE
TZID:America/New_York
BEGIN:DAYLIGHT
TZOFFSETFROM:-0500
TZOFFSETTO:-0400
TZNAME:EDT
DTSTART:20160313T070000
END:DAYLIGHT
BEGIN:STANDARD
TZOFFSETFROM:-0400
TZOFFSETTO:-0500
TZNAME:EST
DTSTART:20161106T060000
END:STANDARD
END:VTIMEZONE
BEGIN:VEVENT
DTSTART;TZID=America/New_York:20160619T090000
DTEND;TZID=America/New_York:20160619T110000
DTSTAMP:20210403T083530
CREATED:20160619T130000Z
LAST-MODIFIED:20191201T154640Z
UID:416241-1466326800-1466334000@www.patriotguard.org
SUMMARY:HOTH
DESCRIPTION:Patriot Guard and Associates;\n\nWe have been invited to attend the God and Country Patriotic Service to be held on Sunday June 19th at 10:30am at The Lighthouse Baptist Church\, 668 Lakewood Rd. Waterbury\, CT. 06704.  \nThis service is being presented to Honor Veterans and Fallen Heroes. Nothing but attendance is requested by the church.  \nStaging 0945 hrs for the 10:30 service at the LIGHTHOUSE BAPTIST CHURCH  668 Lakewood Rd. Waterbury\, CT. 06704.  \nRC Mark Brundage Sr. Will be the point of contact at the Service. \n—\nASC Skip Petras\nascspetras@ctpatriotguard.org
URL:https://www.patriotguard.org/mission/hoth-1452/
CATEGORIES:Archive
END:VEVENT
END:VCALENDAR