BEGIN:VCALENDAR
VERSION:2.0
PRODID:-//Patriot Guard Riders - ECPv5.6.0//NONSGML v1.0//EN
CALSCALE:GREGORIAN
METHOD:PUBLISH
X-WR-CALNAME:Patriot Guard Riders
X-ORIGINAL-URL:https://www.patriotguard.org
X-WR-CALDESC:Events for Patriot Guard Riders
BEGIN:VTIMEZONE
TZID:America/New_York
BEGIN:DAYLIGHT
TZOFFSETFROM:-0500
TZOFFSETTO:-0400
TZNAME:EDT
DTSTART:20160313T070000
END:DAYLIGHT
BEGIN:STANDARD
TZOFFSETFROM:-0400
TZOFFSETTO:-0500
TZNAME:EST
DTSTART:20161106T060000
END:STANDARD
END:VTIMEZONE
BEGIN:VEVENT
DTSTART;TZID=America/New_York:20160626T090000
DTEND;TZID=America/New_York:20160626T110000
DTSTAMP:20210512T222736
CREATED:20160626T130000Z
LAST-MODIFIED:20191201T154632Z
UID:416228-1466931600-1466938800@www.patriotguard.org
SUMMARY:HOTH
DESCRIPTION:U.S. Air Force\nYellow Ribbon Ceremony\nTampa\, FL\nSunday\, June 26\, 2016\n\n\n\nOnce again\, the United States Air Force has invited the Patriot Guard Riders to participate in their fabulous Yellow Ribbon Ceremony\, as they are expecting an extremely large attendance of members.  The Yellow Ribbon Program is a cooperative network of military services\, veteran service organizations\, state and local government departments and other agencies that provide information\, resources\, referral\, and proactive outreach to service members and their families throughout all phases of the deployment cycle.  Each event has members that are deploying within the next 120 days and those just returning from deployment. \nThis event focuses on members and their family concerns in preparation for deployment by providing military and community resource information workshops and stress management.  For those members that have returned from deployment\, the event focuses on reconnecting with family\, community\, and employers. \nThe Yellow Ribbon Program truly cares about its members and their families before\, during and after deployment and will do whatever it takes to insure their well-being. \nPlease bring your 3 x 5 flags to this awesome event\, as this is an opportunity for us to honor and support several hundred patriots and their families at one time. \nItinerary: \nTampa Marriott Waterside Hotel & Marina\n700 S. Florida Ave.\nTampa\, FL.\, 33602\nMap:     https://goo.gl/96pHSr \nStage: 1030 hrs. \nBriefing: 1045 hrs. \nSet flag line: TBD by Ride Captain \nRide Captain: Cathy “Lil Sis” Goldie\ncathy.goldie@hotmail.com\n813-850-6868 \nRespectfully Submitted:\nDavid “Flyboy” Shelton\nFL ASC
URL:https://www.patriotguard.org/mission/hoth-1440/
CATEGORIES:Archive
END:VEVENT
END:VCALENDAR