BEGIN:VCALENDAR
VERSION:2.0
PRODID:-//Patriot Guard Riders - ECPv5.6.0//NONSGML v1.0//EN
CALSCALE:GREGORIAN
METHOD:PUBLISH
X-WR-CALNAME:Patriot Guard Riders
X-ORIGINAL-URL:https://www.patriotguard.org
X-WR-CALDESC:Events for Patriot Guard Riders
BEGIN:VTIMEZONE
TZID:America/New_York
BEGIN:DAYLIGHT
TZOFFSETFROM:-0500
TZOFFSETTO:-0400
TZNAME:EDT
DTSTART:20160313T070000
END:DAYLIGHT
BEGIN:STANDARD
TZOFFSETFROM:-0400
TZOFFSETTO:-0500
TZNAME:EST
DTSTART:20161106T060000
END:STANDARD
END:VTIMEZONE
BEGIN:VEVENT
DTSTART;TZID=America/New_York:20160629T090000
DTEND;TZID=America/New_York:20160629T110000
DTSTAMP:20210512T212104
CREATED:20160629T130000Z
LAST-MODIFIED:20191201T154623Z
UID:416214-1467190800-1467198000@www.patriotguard.org
SUMMARY:HOTH
DESCRIPTION:Patriot’s Name:  SN Timothy “Kaiden” Collier\nMemory Portrait Presentation\nMilitary Branch:  United States Navy \nClassification:This Was An Active Duty Death \nMission Ride Captain:\nBill “Zippy-K” Kushnir\, bpkush@gte.net\, (214) 995-1536 \nMission Summary:\nSN Timothy “Kaiden” Collier’s mother is an employee of the City of Allen Police Dept. Per her request\, we will present his Memory Portrait to her at that location. \nPART 1:  Memory Portrait Presentation \nMission Date:  Jun 29\, 2016 – Wednesday\nStaging Time:  09:30\nBriefing Time:  09:45\nIn Position Time Or KSU:  09:45\nService Start Time:  10:00 \nDetails Of Part 1:\nRiders will stage in the Allen Police Dept. parking lot for a briefing. We will then enter as a group and proceed to the designated area for the presentation. At the conclusion of the presentation\, riders will exit the building for the debriefing and dismissal. \nName Of Staging Point:\nCity of Allen Police Dept.\n205 W. McDermott Dr.\nAllen\, Texas 75013
URL:https://www.patriotguard.org/mission/hoth-1428/
CATEGORIES:Archive
END:VEVENT
END:VCALENDAR