BEGIN:VCALENDAR
VERSION:2.0
PRODID:-//Patriot Guard Riders - ECPv5.6.0//NONSGML v1.0//EN
CALSCALE:GREGORIAN
METHOD:PUBLISH
X-WR-CALNAME:Patriot Guard Riders
X-ORIGINAL-URL:https://www.patriotguard.org
X-WR-CALDESC:Events for Patriot Guard Riders
BEGIN:VTIMEZONE
TZID:America/New_York
BEGIN:DAYLIGHT
TZOFFSETFROM:-0500
TZOFFSETTO:-0400
TZNAME:EDT
DTSTART:20160313T070000
END:DAYLIGHT
BEGIN:STANDARD
TZOFFSETFROM:-0400
TZOFFSETTO:-0500
TZNAME:EST
DTSTART:20161106T060000
END:STANDARD
END:VTIMEZONE
BEGIN:VEVENT
DTSTART;TZID=America/New_York:20160702T090000
DTEND;TZID=America/New_York:20160702T110000
DTSTAMP:20210511T132853
CREATED:20160702T130000Z
LAST-MODIFIED:20191201T154622Z
UID:416213-1467450000-1467457200@www.patriotguard.org
SUMMARY:HOTH
DESCRIPTION:Independence Day Parade\nAlamogordo NM\, 07-02-2016\n\n\n\nThe PGR has been invited to participate in this years Independence Day Parade. The Parade will start on Oregon Ave and proceed down 10th Street to New York Ave. \nWe will rally at 0845 AM at the Cuba Ave Church of Christ. Safety Briefing at 0900 AM KSU 0905 move to parade staging area. 1000 AM start of parade. \nLarge Bike Flags needed lots of RED WHITE AND BLUE. \nRemember to ride with the PGR all you have to be is a Patriot.  No previous military service is required\, nor do you have to have a motorcycle. \n\nEVENT STAGING INFO – 07-02-2016:\n  Location:\nCuba Ave Church of Christ\n1300 CUBA AVE\nALAMOGORDO\, NM 88310 \n Staging Time:\n8:45A.M. \n  Special Instructions:\nWon’t know parade slot till morning of the parade \nRCIC:\nRich “Mailman” Merrick – RC – masmallworld@aol.com – [URL=”callto:+1575-430-6697″]575-430-6697[/URL] \nLarge bike flags will be needed.
URL:https://www.patriotguard.org/mission/hoth-1427/
CATEGORIES:Archive
END:VEVENT
END:VCALENDAR