BEGIN:VCALENDAR
VERSION:2.0
PRODID:-//Patriot Guard Riders - ECPv5.6.0//NONSGML v1.0//EN
CALSCALE:GREGORIAN
METHOD:PUBLISH
X-WR-CALNAME:Patriot Guard Riders
X-ORIGINAL-URL:https://www.patriotguard.org
X-WR-CALDESC:Events for Patriot Guard Riders
BEGIN:VTIMEZONE
TZID:America/New_York
BEGIN:DAYLIGHT
TZOFFSETFROM:-0500
TZOFFSETTO:-0400
TZNAME:EDT
DTSTART:20160313T070000
END:DAYLIGHT
BEGIN:STANDARD
TZOFFSETFROM:-0400
TZOFFSETTO:-0500
TZNAME:EST
DTSTART:20161106T060000
END:STANDARD
END:VTIMEZONE
BEGIN:VEVENT
DTSTART;TZID=America/New_York:20160701T090000
DTEND;TZID=America/New_York:20160701T110000
DTSTAMP:20210512T130138
CREATED:20160701T130000Z
LAST-MODIFIED:20191201T154620Z
UID:416210-1467363600-1467370800@www.patriotguard.org
SUMMARY:HOTH
DESCRIPTION:Memorial Dedication Ceremony\n\n\n   \n\n\nRenaming of U.S. Post Office Grove City\, Ohio\n\n\n   \n\n\nIn Honor and Remembrance of \n\n\n   \n\n\nSpecialist Joseph W. Riley\, Post Office\n\n\n   \n\n\n[ATTACH=CONFIG]4873[/ATTACH]\n\n\n   \n\n\nCasualty of Operation Enduring Freedom\, 24 November 2014 Kabul province\, Afghanistan\n\n\n   \n\n\n \n\n\n   \n\n\nLegislation Introduced and Passed by: \n\n\n   \n\n\nThe Honorable U.S. Senator Rob Portman\, (OH)  \n\n\n   \n\n\n \n\n\n  Honor Walking Escort Staging Location:\n  American Legion Pashall Post 164\n  3363 McDowell Road\n  Grove City\, Ohio 43123\n  Staging: 01 July 2016@1230hrs-(12:30 PM) Kickstands-up at:1350hrs-(1:50 PM)  \n   \n  Map of Escort Route:   https://bit.ly/295xkmd \n   \n  Destination Location:\n  USPS Post Office\n  2082 Stringtown Road\n  Grove City Ohio 43123\n  Ceremony Start Time: 01 July 2016@1400hrs-(2 PM)\n   \n  District #5 Ride Captain Blaise Johnston is assigned this mission of Honor and Remembrance. Remember your 3’x5’ American flags stay hydrated and stand with a slight bend in your knees. If you need to contact Blaise email him at:    blaisej@patriotguard.org\n   \n  Bob Woods\n  State Captain    \n  [FONT=&quot]OHSC@patriotguard.org[/FONT]
URL:https://www.patriotguard.org/mission/hoth-1425/
CATEGORIES:Archive
END:VEVENT
END:VCALENDAR