BEGIN:VCALENDAR
VERSION:2.0
PRODID:-//Patriot Guard Riders - ECPv5.6.0//NONSGML v1.0//EN
CALSCALE:GREGORIAN
METHOD:PUBLISH
X-WR-CALNAME:Patriot Guard Riders
X-ORIGINAL-URL:https://www.patriotguard.org
X-WR-CALDESC:Events for Patriot Guard Riders
BEGIN:VTIMEZONE
TZID:America/New_York
BEGIN:DAYLIGHT
TZOFFSETFROM:-0500
TZOFFSETTO:-0400
TZNAME:EDT
DTSTART:20160313T070000
END:DAYLIGHT
BEGIN:STANDARD
TZOFFSETFROM:-0400
TZOFFSETTO:-0500
TZNAME:EST
DTSTART:20161106T060000
END:STANDARD
END:VTIMEZONE
BEGIN:VEVENT
DTSTART;TZID=America/New_York:20160707T090000
DTEND;TZID=America/New_York:20160707T110000
DTSTAMP:20210512T160703
CREATED:20160707T130000Z
LAST-MODIFIED:20191201T154612Z
UID:416197-1467882000-1467889200@www.patriotguard.org
SUMMARY:HOTH
DESCRIPTION:The Patriots Group of Baldwin County has requested the Patriot Guard Riders to stand a flag line as they treat veterans from the Georgia War Home to a Night Out at Victory Baptist Church in Milledgeville.  We have told the Patriots Group it will be our honor to stand for our veterans as they arrive. \nThis will be a short flag line mission only as we will set up before they arrive and then break stand down after they arrive.  Riders are welcome to come inside and socialize with our veterans and watch the program. \nStaging:\n5:15 PM Thursday\, July 7\nVictory Baptist Church\n640 Meriwether Road NW\nMilledgeville\, GA 31061 \nRCIC:\nCarrie “Hollywood Poole\nmarjesick3@aol.com
URL:https://www.patriotguard.org/mission/hoth-1413/
CATEGORIES:Archive
END:VEVENT
END:VCALENDAR