BEGIN:VCALENDAR
VERSION:2.0
PRODID:-//Patriot Guard Riders - ECPv5.6.0//NONSGML v1.0//EN
CALSCALE:GREGORIAN
METHOD:PUBLISH
X-WR-CALNAME:Patriot Guard Riders
X-ORIGINAL-URL:https://www.patriotguard.org
X-WR-CALDESC:Events for Patriot Guard Riders
BEGIN:VTIMEZONE
TZID:America/New_York
BEGIN:DAYLIGHT
TZOFFSETFROM:-0500
TZOFFSETTO:-0400
TZNAME:EDT
DTSTART:20160313T070000
END:DAYLIGHT
BEGIN:STANDARD
TZOFFSETFROM:-0400
TZOFFSETTO:-0500
TZNAME:EST
DTSTART:20161106T060000
END:STANDARD
END:VTIMEZONE
BEGIN:VEVENT
DTSTART;TZID=America/New_York:20160716T090000
DTEND;TZID=America/New_York:20160716T110000
DTSTAMP:20210512T135622
CREATED:20160716T130000Z
LAST-MODIFIED:20191201T154603Z
UID:416181-1468659600-1468666800@www.patriotguard.org
SUMMARY:HOTH
DESCRIPTION:Please note that due to ongoing OPSEC/PERSEC concerns\, mission details are not shown in this posting. All relevant details about the Hero will be given at the mission briefing.\n\n \n\nHomes for our Troops\nMadison\, Mississippi\n\n\nNew Home Key Ceremony – Saturday 16 July 2016\n\n\nThe Patriot Guard Riders and ALR have been invited by Homes for our Troops to participate in a ceremony Saturday for a deserving Hero: \nSTAGING SATURDAY:  16 July 2016 at 9:15 AM at Germantown High School\, KSU 9:45 AM for the Homes for our Troops KEY CEREMONY for a new mortgage-free home in Madison\, MS.  KSU to destination disclosed at the briefing at the direction of the RC. \nThe ceremony begins at 10:00 AM. \nEveryone is invited to this event as we honor this Hero! \nRC John “PapaJohn” Adams\n601.316.6628
URL:https://www.patriotguard.org/mission/hoth-1401/
CATEGORIES:Archive
END:VEVENT
END:VCALENDAR