BEGIN:VCALENDAR
VERSION:2.0
PRODID:-//Patriot Guard Riders - ECPv5.6.0//NONSGML v1.0//EN
CALSCALE:GREGORIAN
METHOD:PUBLISH
X-WR-CALNAME:Patriot Guard Riders
X-ORIGINAL-URL:https://www.patriotguard.org
X-WR-CALDESC:Events for Patriot Guard Riders
BEGIN:VTIMEZONE
TZID:America/New_York
BEGIN:DAYLIGHT
TZOFFSETFROM:-0500
TZOFFSETTO:-0400
TZNAME:EDT
DTSTART:20160313T070000
END:DAYLIGHT
BEGIN:STANDARD
TZOFFSETFROM:-0400
TZOFFSETTO:-0500
TZNAME:EST
DTSTART:20161106T060000
END:STANDARD
END:VTIMEZONE
BEGIN:VEVENT
DTSTART;TZID=America/New_York:20160805T090000
DTEND;TZID=America/New_York:20160805T110000
DTSTAMP:20210511T185245
CREATED:20160805T130000Z
LAST-MODIFIED:20191201T154544Z
UID:416154-1470387600-1470394800@www.patriotguard.org
SUMMARY:HOTH
DESCRIPTION:PTSD Veterans’ Escort\nFriday\n05 Aug 2016\nMontgomery\, AL\n\n\nFellow PGR Riders\, \nPatriot Guard Riders has been invited by the American Legion\, Department of Alabama to join them in support of a Veterans’ retreat to assist veterans suffering from the effects of post-traumatic stress disorder. The American Legion is sponsoring this event; the YMCA has dedicated their Camp Chandler facility to host this event; Central Alabama Health Care System (CAVHCS) is providing counselors and health care professionals; and the Alabama Department of Labor will be providing employment classes. \nDuring the event\, these veterans will have counselling\, employment classes\, participate in group activities\, enjoy fishing\, movies\, a bonfire\, home-cooked meals\, etc. etc.  This is a three day event that begins with an escorted ride from Montgomery up to Camp Chandler this Friday\, August 5th.  It is for this 45 minute escorted ride that the American Legion has invited PGR to support/participate.  We will stage in the Paterson Field parking lot (the baseball stadium across from the Crampton Bowl) at 09:30.  If you have flags for your bike\, this is the time to fly them.  If not\, don’t worry about it…your presence is what will be appreciated and remembered by these vets. \nWe participated in this event last year and in addition to being a rewarding experience for our riders\, it was truly appreciated by the veterans that we honored.  I hope you will be able to join in this ride to honor these living heroes that are so often forgotten by the rest of our society. \nSTAGING INFO\nLOCATION:  Paterson Field parking lot\, 1215 Madison Avenue/Crampton Bowl parking lot\, Montgomery\, AL\nTIME:  09:30\nKSU:  10:00\nRCIC:  Tommy “T-Bird” Beeson\, 334-207-7099 \nWeather Forecast:  If the current weather pattern holds\, temps will be in the low 90’s and you can expect afternoon rains\, so please plan accordingly. \nThese veterans are living American Heroes who deserve the best that we can provide.  They stood and fought on various battlefields for our nation\, and in a very real sense are still fighting that fight and paying the price for that service.  This is our chance to stand in support of them and honor their service to us. I hope to see you there.
URL:https://www.patriotguard.org/mission/hoth-1382/
CATEGORIES:Archive
END:VEVENT
END:VCALENDAR