BEGIN:VCALENDAR
VERSION:2.0
PRODID:-//Patriot Guard Riders - ECPv5.6.0//NONSGML v1.0//EN
CALSCALE:GREGORIAN
METHOD:PUBLISH
X-WR-CALNAME:Patriot Guard Riders
X-ORIGINAL-URL:https://www.patriotguard.org
X-WR-CALDESC:Events for Patriot Guard Riders
BEGIN:VTIMEZONE
TZID:America/New_York
BEGIN:DAYLIGHT
TZOFFSETFROM:-0500
TZOFFSETTO:-0400
TZNAME:EDT
DTSTART:20160313T070000
END:DAYLIGHT
BEGIN:STANDARD
TZOFFSETFROM:-0400
TZOFFSETTO:-0500
TZNAME:EST
DTSTART:20161106T060000
END:STANDARD
END:VTIMEZONE
BEGIN:VEVENT
DTSTART;TZID=America/New_York:20160807T090000
DTEND;TZID=America/New_York:20160807T110000
DTSTAMP:20210511T193950
CREATED:20160807T130000Z
LAST-MODIFIED:20191201T154541Z
UID:416149-1470560400-1470567600@www.patriotguard.org
SUMMARY:HOTH
DESCRIPTION:The Mayor of Waterloo has invited the Patriot Guard  Riders to participate in the dedication of the Purple Heart Monument  this coming Sunday\, Purple Heart Day.  There will be 18 patriots honored  on that monument: one from WWII\, four from the Korean War\, eleven from  the Vietnam War\, and two from the Iraq War.  Please come and stand tall  in a PGR flag line as we honor those warriors who have been wounded or  killed in their service to our great nation.\n\nStaging: 12:00 Noon \nLocation: Junction of Lakeview Drive and South Library Street \nDirections: From Route 3\, go West on Park Street\, then South on Lakeview Drive to South Library Street \nAs always—HYDRATE  HYDRATE! \nRide Captains:\nAl Colvin (618-401-1628)\nArne Dahlgren\, with flag support
URL:https://www.patriotguard.org/mission/hoth-1377/
CATEGORIES:Archive
END:VEVENT
END:VCALENDAR