BEGIN:VCALENDAR
VERSION:2.0
PRODID:-//Patriot Guard Riders - ECPv5.6.0//NONSGML v1.0//EN
CALSCALE:GREGORIAN
METHOD:PUBLISH
X-WR-CALNAME:Patriot Guard Riders
X-ORIGINAL-URL:https://www.patriotguard.org
X-WR-CALDESC:Events for Patriot Guard Riders
BEGIN:VTIMEZONE
TZID:America/New_York
BEGIN:DAYLIGHT
TZOFFSETFROM:-0500
TZOFFSETTO:-0400
TZNAME:EDT
DTSTART:20160313T070000
END:DAYLIGHT
BEGIN:STANDARD
TZOFFSETFROM:-0400
TZOFFSETTO:-0500
TZNAME:EST
DTSTART:20161106T060000
END:STANDARD
END:VTIMEZONE
BEGIN:VEVENT
DTSTART;TZID=America/New_York:20160806T090000
DTEND;TZID=America/New_York:20160806T110000
DTSTAMP:20210512T035655
CREATED:20160806T130000Z
LAST-MODIFIED:20191201T154539Z
UID:416146-1470474000-1470481200@www.patriotguard.org
SUMMARY:HOTH
DESCRIPTION:Project 22\nMadison County Veterans Memorial\nHuntsville\, AL\n06 August 2016\n\n\n\nProject 22 and Bearded Warriors has asked the Patriot Guard to stand a flag line at the start of the 2.2 mile log carry event. \nWe are Honored to do so. \nThe 2.2 mile log carry event is in support of our nation’s military Veterans to raise awareness of the 22 Veterans that commit suicide each day and in support of our first responders. \nStaging: Saturday 06 August 2016 11:30 \nEvent begins at 12:30 \nMadison County Veterans Memorial\n200 Monroe St.\nHuntsville\, AL 35810 \nRCIC:\nBrian Ball   RC\n912-322-6877\nbball31548@yahoo.com
URL:https://www.patriotguard.org/mission/hoth-1374/
CATEGORIES:Archive
END:VEVENT
END:VCALENDAR