BEGIN:VCALENDAR
VERSION:2.0
PRODID:-//Patriot Guard Riders - ECPv5.6.0//NONSGML v1.0//EN
CALSCALE:GREGORIAN
METHOD:PUBLISH
X-WR-CALNAME:Patriot Guard Riders
X-ORIGINAL-URL:https://www.patriotguard.org
X-WR-CALDESC:Events for Patriot Guard Riders
BEGIN:VTIMEZONE
TZID:America/New_York
BEGIN:DAYLIGHT
TZOFFSETFROM:-0500
TZOFFSETTO:-0400
TZNAME:EDT
DTSTART:20160313T070000
END:DAYLIGHT
BEGIN:STANDARD
TZOFFSETFROM:-0400
TZOFFSETTO:-0500
TZNAME:EST
DTSTART:20161106T060000
END:STANDARD
END:VTIMEZONE
BEGIN:VEVENT
DTSTART;TZID=America/New_York:20160811T090000
DTEND;TZID=America/New_York:20160811T110000
DTSTAMP:20210512T032753
CREATED:20160811T130000Z
LAST-MODIFIED:20191201T154534Z
UID:416139-1470906000-1470913200@www.patriotguard.org
SUMMARY:HOTH
DESCRIPTION:Mission Name:	3rd Annual America’s Mighty Warriors Retreat for Gold Star Families\nClassification:	Community Event – Procession \nMission Ride Captain:	Ken “Chigger” DuBois\, Kend0715@gmail.com\, (817) 879-9420\nRide Captain #2:	Darl “Mach II” Easton\, darl444@msn.com\, (817) 296-5123 \nMission Summary:	We have been requested by America’s Mighty Warriors and Fellowship Church to accompany two vehicles transporting 50+ Gold Star families from the Fellowship Church in Grapevine\, approximately 90 miles to Canton. The East Texas PGR will meet us there and then accompany the vehicles to their final destination. \nPART 1:	Procession\nMission Date:	Aug 11\, 2016 – Thursday\nStaging Time:	13:30\nBriefing Time:	13:45\nIn Position Time Or KSU:	14:00\nService Start Time:	14:15 \nDetails Of Part 1:	Riders will stage at the Fellowship Church to be briefed and lined up for the procession East. All riders must attend the\nsafety briefing to ride in the procession. The ride will take approximately 90 minutes and travel approximately 90 miles and we will fly flags in route.  Make sure you have sufficient fuel to make the entire procession to Canton.  Riders choosing to do so may accompany the East Texas PGR to the final  destination. Irving\, TX Law Enforcement Officers will be utilized for safe travels out of the DFW Area and towards our destination. \nName Of Staging Point:\nFellowship Church Grapevine\n2450 N Highway 121\nGrapevine\, Texas 76051
URL:https://www.patriotguard.org/mission/hoth-1369/
CATEGORIES:Archive
END:VEVENT
END:VCALENDAR