BEGIN:VCALENDAR
VERSION:2.0
PRODID:-//Patriot Guard Riders - ECPv5.6.0//NONSGML v1.0//EN
CALSCALE:GREGORIAN
METHOD:PUBLISH
X-WR-CALNAME:Patriot Guard Riders
X-ORIGINAL-URL:https://www.patriotguard.org
X-WR-CALDESC:Events for Patriot Guard Riders
BEGIN:VTIMEZONE
TZID:America/New_York
BEGIN:DAYLIGHT
TZOFFSETFROM:-0500
TZOFFSETTO:-0400
TZNAME:EDT
DTSTART:20160313T070000
END:DAYLIGHT
BEGIN:STANDARD
TZOFFSETFROM:-0400
TZOFFSETTO:-0500
TZNAME:EST
DTSTART:20161106T060000
END:STANDARD
END:VTIMEZONE
BEGIN:VEVENT
DTSTART;TZID=America/New_York:20160812T090000
DTEND;TZID=America/New_York:20160812T110000
DTSTAMP:20210512T033807
CREATED:20160812T130000Z
LAST-MODIFIED:20191201T154533Z
UID:416137-1470992400-1470999600@www.patriotguard.org
SUMMARY:HOTH
DESCRIPTION:Please note that due to ongoing OPSEC/PERSEC concerns\, mission details are not shown in this posting. All relevant details about the Hero will be given at the mission briefing. \n \nPatriot’s Name: Local Veteran\nMilitary Branch:    United States Army\nClassification:    Retired From Military \nMission Ride Captain:    Garland “PAPA” Raney\, papa@ntxpgr.org\, (214) 799-5185 \nMission Summary:    Procession and flag line at house dedication. \nPART 1:    Procession and dedication\nMission Date:    Aug 12\, 2016 – Friday\nStaging Time:    09:15\nBriefing Time:    09:30\nIn Position Time Or KSU:    09:45\nService Start Time:10:00 \nDetails Of Part 1:    The Patriot Guard will stage at the Little Elm Park.  A mission and safety briefing will be held and the bikes arrange for procession to our Hero’s new home. The home address will be given out at the mission briefing. Those not wishing to be in the procession can proceed to the home site. After the ceremony is over\, the flags will be returned to the support vehicle\, a debriefing held\, and riders dismissed. \nName Of Staging Point:\n141 Lighthouse Beach Dr.\nLittle Elm\, Texas 75068
URL:https://www.patriotguard.org/mission/hoth-1367/
CATEGORIES:Archive
END:VEVENT
END:VCALENDAR