BEGIN:VCALENDAR
VERSION:2.0
PRODID:-//Patriot Guard Riders - ECPv5.6.0//NONSGML v1.0//EN
CALSCALE:GREGORIAN
METHOD:PUBLISH
X-WR-CALNAME:Patriot Guard Riders
X-ORIGINAL-URL:https://www.patriotguard.org
X-WR-CALDESC:Events for Patriot Guard Riders
BEGIN:VTIMEZONE
TZID:America/New_York
BEGIN:DAYLIGHT
TZOFFSETFROM:-0500
TZOFFSETTO:-0400
TZNAME:EDT
DTSTART:20160313T070000
END:DAYLIGHT
BEGIN:STANDARD
TZOFFSETFROM:-0400
TZOFFSETTO:-0500
TZNAME:EST
DTSTART:20161106T060000
END:STANDARD
END:VTIMEZONE
BEGIN:VEVENT
DTSTART;TZID=America/New_York:20160827T090000
DTEND;TZID=America/New_York:20160827T110000
DTSTAMP:20210511T205114
CREATED:20160827T130000Z
LAST-MODIFIED:20191201T154528Z
UID:416130-1472288400-1472295600@www.patriotguard.org
SUMMARY:HOTH
DESCRIPTION:Mission Name: Snowball Express 3rd Annual 5K Run\nClassification:    Community Event \nMission Ride Captain:\nKen “Chigger” DuBois\nKend0715@gmail.com\n(817)879-9420 \nMission Summary: The Patriot Guard Riders have again been invited to help with this year’s Snowball Express 5K Run at Trinity Park in Fort Worth. \nPART 1:    Riders will post flags and help support this by standing flag line and/or participating in the 5K Run. \nMission Date:    Aug 27\, 2016 – Saturday\nStaging Time:    06:00\nBriefing Time:    06:15\nIn Position Time Or KSU:  06:30\nService Start Time:  07:30 \nDetails Of Part 1:  Upon arrival at the Trinity Park we will post the flags around the gathering area. For those that are participating in the 5k\, run you will be given your T-Shirts and running number\, and stage at the starting line. The funds raised from this Snowball Express event provides hope and new memories to the children who have lost a military parent serving on active duty since 9/11. This December\, the Cities of Dallas and Fort Worth will welcome nearly 2\,000 children\, and their surviving parent\, to experience a life-changing celebration. Please join us for this race to show your support and help these families who have sacrificed so much. \nName Of Staging Point:\nTrinity Park\n2261 W 7th Street\nFt Worth\, Texas 76107
URL:https://www.patriotguard.org/mission/hoth-1362/
CATEGORIES:Archive
END:VEVENT
END:VCALENDAR