BEGIN:VCALENDAR
VERSION:2.0
PRODID:-//Patriot Guard Riders - ECPv5.6.0//NONSGML v1.0//EN
CALSCALE:GREGORIAN
METHOD:PUBLISH
X-WR-CALNAME:Patriot Guard Riders
X-ORIGINAL-URL:https://www.patriotguard.org
X-WR-CALDESC:Events for Patriot Guard Riders
BEGIN:VTIMEZONE
TZID:America/New_York
BEGIN:DAYLIGHT
TZOFFSETFROM:-0500
TZOFFSETTO:-0400
TZNAME:EDT
DTSTART:20160313T070000
END:DAYLIGHT
BEGIN:STANDARD
TZOFFSETFROM:-0400
TZOFFSETTO:-0500
TZNAME:EST
DTSTART:20161106T060000
END:STANDARD
END:VTIMEZONE
BEGIN:VEVENT
DTSTART;TZID=America/New_York:20160820T090000
DTEND;TZID=America/New_York:20160820T110000
DTSTAMP:20210512T034700
CREATED:20160820T130000Z
LAST-MODIFIED:20191201T154519Z
UID:416117-1471683600-1471690800@www.patriotguard.org
SUMMARY:HOTH
DESCRIPTION:The Patriot Guard Riders have been honored with a request from an individual who will be walking from St Louis\, MO to Arlington National Cemetery in Washington\, DC.  She is doing this to honor her husband who served his country with honor and distinction in the United States Army in Korea and Vietnam.  She hopes to raise money for veterans\, including the Gary Sinise Foundation. \nThe PGR has been invited to show our support for this cause on Saturday 20 August 2016 from 6:00 pm – 10:00 pm.  Riders will stage at MotoMart at Exit 184 in Rolla at 6:00 pm with KSU no later than 6:15 pm.  We will ride as a group to our destination in Rolla. Riders can stay as long as they choose. \nOur honoree will depart Rolla the next morning and will begin her journey at the Interstate 55 and Interstate 270 interchange.  She expects to arrive at Arlington National Cemetery on October 10\, 2016.  \nAs is always the case with these types of missions\, details are subject to change.  I will keep you posted of any changes.  It is possible that we may provide a partial escort from Rolla to a location to be determined later.  She will be in a cage until she reaches St Louis.\n\nRide Captain in Charge (RCIC):\nMark Williams\n573-465-2204
URL:https://www.patriotguard.org/mission/hoth-1352/
CATEGORIES:Archive
END:VEVENT
END:VCALENDAR