BEGIN:VCALENDAR
VERSION:2.0
PRODID:-//Patriot Guard Riders - ECPv5.6.0//NONSGML v1.0//EN
CALSCALE:GREGORIAN
METHOD:PUBLISH
X-WR-CALNAME:Patriot Guard Riders
X-ORIGINAL-URL:https://www.patriotguard.org
X-WR-CALDESC:Events for Patriot Guard Riders
BEGIN:VTIMEZONE
TZID:America/New_York
BEGIN:DAYLIGHT
TZOFFSETFROM:-0500
TZOFFSETTO:-0400
TZNAME:EDT
DTSTART:20160313T070000
END:DAYLIGHT
BEGIN:STANDARD
TZOFFSETFROM:-0400
TZOFFSETTO:-0500
TZNAME:EST
DTSTART:20161106T060000
END:STANDARD
END:VTIMEZONE
BEGIN:VEVENT
DTSTART;TZID=America/New_York:20160825T090000
DTEND;TZID=America/New_York:20160825T110000
DTSTAMP:20210511T190321
CREATED:20160825T130000Z
LAST-MODIFIED:20191201T154512Z
UID:416107-1472115600-1472122800@www.patriotguard.org
SUMMARY:HOTH
DESCRIPTION:Please note that due to ongoing OPSEC/PERSEC concerns\, mission details are not shown in this posting. All relevant details about the Local Hero will be given at the mission briefing. \nThe Patriot Guard Riders have been requested to Escort a Vietnam Hero / Purple Heart recipient. He never got a Heroes Welcome Home and it is about time we made that happen. He will be joining the VSA (Veteran Sportsman Alliance) on a hunt. We will be Escorting our Hero from the VSA headquarters to the 19th hole. Please bring your Flags as we show another Vietnam Veteran what a Welcome Home feels like. \nWHO: Provided at briefing (Purple Heart) \nWHEN: Thursday August 25th\, 2016 \nSTAGING TIME: 0730hrs \nSTAGING AREA:\nVSA Headquarters\n10394 S. Tantau Ave.\nCupertino\, CA\nhttp://mapq.st/2bCBvFG \nDESTINATION: 19th Hole \nRIDE CAPTAIN: Please step up if you can. \nContact:\nBuzz Bickham\nbuzzpgr@gmail.com
URL:https://www.patriotguard.org/mission/hoth-1344/
CATEGORIES:Archive
END:VEVENT
END:VCALENDAR