BEGIN:VCALENDAR
VERSION:2.0
PRODID:-//Patriot Guard Riders - ECPv5.3.2.1//NONSGML v1.0//EN
CALSCALE:GREGORIAN
METHOD:PUBLISH
X-WR-CALNAME:Patriot Guard Riders
X-ORIGINAL-URL:https://www.patriotguard.org
X-WR-CALDESC:Events for Patriot Guard Riders
BEGIN:VTIMEZONE
TZID:America/New_York
BEGIN:DAYLIGHT
TZOFFSETFROM:-0500
TZOFFSETTO:-0400
TZNAME:EDT
DTSTART:20160313T070000
END:DAYLIGHT
BEGIN:STANDARD
TZOFFSETFROM:-0400
TZOFFSETTO:-0500
TZNAME:EST
DTSTART:20161106T060000
END:STANDARD
END:VTIMEZONE
BEGIN:VEVENT
DTSTART;TZID=America/New_York:20161022T090000
DTEND;TZID=America/New_York:20161022T110000
DTSTAMP:20210406T042004
CREATED:20161022T130000Z
LAST-MODIFIED:20191201T154328Z
UID:415941-1477126800-1477134000@www.patriotguard.org
SUMMARY:HOTH
DESCRIPTION:Beirut Memorial Dedication\nPrinceton\, WV\nOctober 22\, 2016\n\n\n\nThe Patriot Guard Riders have been invited to Princeton for the dedication of the 1983 Beirut Bombing Memorial. \nStaging:    Saturday\, October 22\, 2016 at 12:15 p.m.\nIntersection of Route 3 and 20\nThree Rivers Store (closed)\nHinton\, WV \nBriefing:   12:30 p.m. \nKSU:         12:45 p.m. \nForecast:  Partly sunny with highs in the 60’s \nRide Captain:   Chuck Smith greenbriersurveying@yahoo.com (304) 667-2729 \nElisa Camera is the author of the book “American Brother” written in his honor after her brother\, USMC Sergeant  Mecot Camera lost his life in the October 1983 Beirut\, Lebanon Barracks Bombing. She is a guest speaker at the dedication ceremony. Please bring a 3 x 5 flag\, and help this family honor his life and all those lost in the bombing.
URL:https://www.patriotguard.org/mission/hoth-1206/
CATEGORIES:Archive
END:VEVENT
END:VCALENDAR